BEGIN:VCALENDAR
VERSION:2.0
PRODID:-//wp-events-plugin.com//7.2.3.1//EN
TZID:Europe/Warsaw
X-WR-TIMEZONE:Europe/Warsaw
BEGIN:VEVENT
UID:49516@night4u.pl
DTSTART;TZID=Europe/Warsaw:20200307T220000
DTEND;TZID=Europe/Warsaw:20200308T040000
DTSTAMP:20200331T140445Z
URL:https://night4u.pl/wydarzenia/groovy-night-by-dj-mark-felicita/
SUMMARY:Groovy Night by Dj Mark @ felicità
DESCRIPTION:A new project\nby \nfelicità - Italian pub&amp\;disco \nfeat.\
 nDj Mark \n@Marc Laszczynski\n\n🔜🎼🎧💃🏻🕺🏽\n\nAlready th
 is Saturday!\nFunk/hip hop/house/disco music \n\nYou can’t miss it!
ATTACH;FMTTYPE=image/jpeg:https://night4u.pl/wp-content/uploads/2020/03/17
 2414_image_88000351_3022736544416923_6653996671946457088_o.jpg
CATEGORIES:dolnośląskie
LOCATION:Pub Felicità\, Plac Solny\, 16\, Wroclaw\, 50-062\, Poland
GEO:51.10891;17.02948
X-APPLE-STRUCTURED-LOCATION;VALUE=URI;X-ADDRESS=Plac Solny\, 16\, Wroclaw\,
  50-062\, Poland;X-APPLE-RADIUS=100;X-TITLE=Pub Felicità:geo:51.10891,17.
 02948
END:VEVENT
BEGIN:VTIMEZONE
TZID:Europe/Warsaw
X-LIC-LOCATION:Europe/Warsaw
BEGIN:STANDARD
DTSTART:20191027T020000
TZOFFSETFROM:+0200
TZOFFSETTO:+0100
TZNAME:CET
END:STANDARD
END:VTIMEZONE
END:VCALENDAR