BEGIN:VCALENDAR
VERSION:2.0
PRODID:-//wp-events-plugin.com//7.2.3.1//EN
TZID:Europe/Warsaw
X-WR-TIMEZONE:Europe/Warsaw
BEGIN:VEVENT
UID:6834@night4u.pl
DTSTART;TZID=Europe/Warsaw:20190328T200000
DTEND;TZID=Europe/Warsaw:20190328T230000
DTSTAMP:20190210T152523Z
URL:https://night4u.pl/wydarzenia/grubson-sanepid-live-band-zagraja-w-star
 ym-klasztorze/
SUMMARY:Grubson & Sanepid Live Band zagrają w Starym Klasztorze!
DESCRIPTION:Grubson & Sanepid Live Band  zagrają w Starym Klasztorze!\n\nw
 ROCKfest.pl zaprasza 28 marca do Sali Gotyckiej w Starym Klasztorze na kon
 cert Grubson & Sanepid Live Band !\n\n"Gatunek L” to 4 album studyjny Gr
 ubSona\, którego premiera odbyła się we wrzesniu 2017 roku.\nGrubSon to
  artysta\, który wielokrotnie udowadniał\, że potrafi łączyć różne
  gatunki muzyczne\, tym razem przedstawia swoją najbardziej przemyślaną
  i spójną płytę\, która stanowi jego największe muzyczne przedsięwz
 ięcie w całej dotychczasowej karierze. Gościnnie na płycie pojawili si
 ę jego przyjaciele\, Jarecki\, oraz niezaprzeczalni międzynarodowi gracz
 e – Szwed Promoe z Looptroop Rockers\, oraz Nowojorczyk Chip-Fu z grupy 
 Fu-Schnickens. Dodatkowo do płyty\, poza wsparciem koncertującego z Grub
 Sonem live bandu SANEPID\, dograła się orkiestra „eM Band”.\n„Gatu
 nek L” to podsumowanie całej dotychczasowej muzycznej kariery i życia 
 GrubSona\, mieszanka jego ulubionych stylów i gatunków\, mocnych tekstó
 w – pisanych w oparciu o sumę doświadczeń w trasie i poza nią\, a ta
 kże – co najważniejsze – pierwszy album nagrany i stworzony całkowi
 cie niezależnie. Za produkcję albumu odpowiedzialni są w całości DJ B
 RK\, SoDrumatic\, OER\, oraz GrubSon\, a za za mix i mastering Dj Eprom. W
 ydawnictwo ukazało się nakładem nowej wytwórni Supa’High Music oraz 
 wydawnictwa Agora. \n\n28.03.19 godz.20.00 Sala Gotycka w Starym Klasztorz
 e\, ul. Purkyniego 1\nGRUBSON & SANEPID LIVE BAND  \nbilety: 45 zł - 100 
 szt. wyłącznie rezerwacje: bilety@o2.pl\, 50 zł - przedsprzedaż\, 60 z
 ł - w dniu koncertu\nmiejsca siedzące ( balkon): 65 zł\n\nBilety dostę
 pne w sieci salonów Empik i MediaMarkt w całej Polsce\noraz w serwisach:
  www.staryklasztor.com.pl/bilety/\, www.biletin.pl\, www.biletyna.pl\, www
 .eventim.pl\, www.ebilet.pl\, www.kupbilecik.pl\, www.empikbilety.pl \nrez
 erwacje: bilety@o2.pl\n\nUwaga\, kupuj bilety wyłącznie w autoryzowanych
  punktach! \nZakup biletów poza autoryzowanymi punktami sprzedaży (Faceb
 ook\, aukcje internetowe\, systemy odsprzedaży biletów itp.) stwarza ryz
 yko zakupu biletów nieoryginalnych lub nieważnych\, które nie umożliwi
 ą wejścia na koncert.
ATTACH;FMTTYPE=image/jpeg:https://night4u.pl/wp-content/uploads/2019/02/19
 960_image_48928960_10156653343541005_7750955916622561280_o.jpg
CATEGORIES:dolnośląskie
LOCATION:Stary Klasztor\, Purkyniego 1\, Wroclaw\, 50-155\, Poland
GEO:51.110198;17.039162
X-APPLE-STRUCTURED-LOCATION;VALUE=URI;X-ADDRESS=Purkyniego 1\, Wroclaw\, 50
 -155\, Poland;X-APPLE-RADIUS=100;X-TITLE=Stary Klasztor:geo:51.110198,17.0
 39162
END:VEVENT
BEGIN:VTIMEZONE
TZID:Europe/Warsaw
X-LIC-LOCATION:Europe/Warsaw
BEGIN:STANDARD
DTSTART:20181028T020000
TZOFFSETFROM:+0200
TZOFFSETTO:+0100
TZNAME:CET
END:STANDARD
END:VTIMEZONE
END:VCALENDAR