BEGIN:VCALENDAR
VERSION:2.0
PRODID:-//wp-events-plugin.com//7.2.3.1//EN
TZID:Europe/Warsaw
X-WR-TIMEZONE:Europe/Warsaw
BEGIN:VEVENT
UID:49677@night4u.pl
DTSTART;TZID=Europe/Warsaw:20200313T220000
DTEND;TZID=Europe/Warsaw:20200314T050000
DTSTAMP:20200313T085101Z
URL:https://night4u.pl/wydarzenia/gruby-czarny-kot-piatek-13_go-na-karovej
 /
SUMMARY:Gruby\, czarny kot. Piątek 13_go na Karovej
DESCRIPTION:Czy ostatnio przebiegł Ci drogę gruby\, czarny kot? 🐈\nPrz
 eszedłeś pod drabiną? 👀\nStłukłeś lustro? 🤭\n\nJest tylko jede
 n sposób na to\, by pozbyć się pecha! \nImpreza na Karovej! 💓\nPodcz
 as piątkowego szaleństwa na parkiecie wytańczymy zły urok i zapewnimy 
 sobie pomyślność na cały nadchodzący tydzień 😎 \n\nImprezę nakr
 ęci DJ Koala.\n\nAby dopomóc szczęściu - które jak wiemy ma kolor zie
 lony - mamy dla was specjalną promocję na barze. Pyszny drink Zielona La
 tarnia 🍀 Trzynastego w piątek tylko za 13 złotych! 😍\n\nPozostałe
  atrakcje na barze: \n\nShot vodka 9zł\nShot whisky 12zł\nButelka wódki
  0\,7 + soft 159zł\nButelka prosecco 0\,75 - 75 zł\n\nStart 22\, do 23 w
 jazd free\, później 20 PLN.\n\nPamiętajcie\, że na Karovej więcej zna
 czy mniej - przyjdź w ekipie 10 osób (lub więcej)\, a wjazd będziecie 
 mieli za 10 PLN  💖\n\n==\n\nFriday 13th is traditionally perceived as a
  not very fortunate day... 🐈\nIn the Karova Club we know how to get rid
  off the bad charm!\nWe invite you to a party - during the night we will d
 ance out bad luck 😎\n\nWe have also a special offer for a green\, lucky
  drink - only 13 PLN 🍀\nShot vodka PLN 9\nShot whiskey PLN 12\nBottle o
 f vodka 0.7 + soft PLN 159\nProsecco bottle 0.75 - 75 PLN \n\nStart 22\, f
 ree entry to 23:00. 20 PLN then. \n\nRemember that on Karova more is less 
 - come in a team of 10 people (or more) and you will have an entry for 10 
 PLN only 💖
ATTACH;FMTTYPE=image/jpeg:https://night4u.pl/wp-content/uploads/2020/03/17
 3376_image_89437617_1133004260384924_2507700089804292096_o.jpg
CATEGORIES:mazowieckie
LOCATION:Karova\, Karowa 31\, Warsaw\, 00-324\, Poland
GEO:52.24257;21.018391
X-APPLE-STRUCTURED-LOCATION;VALUE=URI;X-ADDRESS=Karowa 31\, Warsaw\, 00-324
 \, Poland;X-APPLE-RADIUS=100;X-TITLE=Karova:geo:52.24257,21.018391
END:VEVENT
BEGIN:VTIMEZONE
TZID:Europe/Warsaw
X-LIC-LOCATION:Europe/Warsaw
BEGIN:STANDARD
DTSTART:20191027T020000
TZOFFSETFROM:+0200
TZOFFSETTO:+0100
TZNAME:CET
END:STANDARD
END:VTIMEZONE
END:VCALENDAR