BEGIN:VCALENDAR
VERSION:2.0
PRODID:-//wp-events-plugin.com//7.2.3.1//EN
TZID:Europe/Warsaw
X-WR-TIMEZONE:Europe/Warsaw
BEGIN:VEVENT
UID:30914@night4u.pl
DTSTART;TZID=Europe/Warsaw:20191119T230000
DTEND;TZID=Europe/Warsaw:20191120T050000
DTSTAMP:20191119T104739Z
URL:https://night4u.pl/wydarzenia/gruuv-on-15/
SUMMARY:Gruuv On #15 ll All night long
DESCRIPTION:Wtorek (od słowa wtóry) znaczy "kolejny" i jak sama nazwa wsk
 azuje jest kolejną okazją aby w swojskiej i domowej atmosferze naładowa
 ć się pozytywną energią na cały tydzień. \n\nZ takim właśnie zało
 żeniem powstał Gruuv On - czyli najlepszy wtorkowy cykl na świecie. Pod
 czas 15 edycji gospodarze FVBN &amp\; TRSK wystąpią w swojej ulubionej f
 ormule "all night long"\n\n#najlepsze_wtorki_na_świecie\n\nStart: 23:00\n
 Ticket: 20 ZŁ/PLN\n\n#housemusic #deephouse #techhouse #groove #onlygoodv
 ibes #thebesttuesdaysintheworld
ATTACH;FMTTYPE=image/jpeg:https://night4u.pl/wp-content/uploads/2019/11/71
 458_image_75540257_435080117211420_4030357298651070464_o.jpg
CATEGORIES:mazowieckie
LOCATION:Luzztro\, Aleje Jerozolimskie 6\, Warsaw\, 00-374\, Poland
GEO:52.232779;21.023655
X-APPLE-STRUCTURED-LOCATION;VALUE=URI;X-ADDRESS=Aleje Jerozolimskie 6\, War
 saw\, 00-374\, Poland;X-APPLE-RADIUS=100;X-TITLE=Luzztro:geo:52.232779,21.
 023655
END:VEVENT
BEGIN:VTIMEZONE
TZID:Europe/Warsaw
X-LIC-LOCATION:Europe/Warsaw
BEGIN:STANDARD
DTSTART:20191027T020000
TZOFFSETFROM:+0200
TZOFFSETTO:+0100
TZNAME:CET
END:STANDARD
END:VTIMEZONE
END:VCALENDAR