BEGIN:VCALENDAR
VERSION:2.0
PRODID:-//wp-events-plugin.com//7.2.3.1//EN
TZID:Europe/Warsaw
X-WR-TIMEZONE:Europe/Warsaw
BEGIN:VEVENT
UID:21919@night4u.pl
DTSTART;TZID=Europe/Warsaw:20190716T230000
DTEND;TZID=Europe/Warsaw:20190717T050000
DTSTAMP:20190709T224705Z
URL:https://night4u.pl/wydarzenia/gruuv-on8-feat-pawel-zurawski/
SUMMARY:Gruuv ON#8 feat. Paweł Żurawski
DESCRIPTION:Wtorek (od słowa wtóry) znaczy "kolejny" i jak sama nazwa wsk
 azuje jest kolejną okazją aby w swojskiej i domowej atmosferze naładowa
 ć się pozytywną energią na cały tydzień. \n\nZ takim właśnie zało
 żeniem powstało wydarzenie Gruuv ON na którym gospodarze TRSK i FVBN or
 az ich goście dokonają szerokiego przeglądu gatunku tech/deep/house. \n
 \nGuest:\n- Paweł Żurawski\n\nCome with us and feel that groove!\n#house
 music #techhouse #deephouse #onlygoodvibes
ATTACH;FMTTYPE=image/jpeg:https://night4u.pl/wp-content/uploads/2019/07/51
 934_image_65830402_366946634024769_2730991780211195904_o.jpg
CATEGORIES:mazowieckie
LOCATION:Luzztro\, Aleje Jerozolimskie 6\, Warsaw\, 00-374\, Poland
GEO:52.232779;21.023655
X-APPLE-STRUCTURED-LOCATION;VALUE=URI;X-ADDRESS=Aleje Jerozolimskie 6\, War
 saw\, 00-374\, Poland;X-APPLE-RADIUS=100;X-TITLE=Luzztro:geo:52.232779,21.
 023655
END:VEVENT
BEGIN:VTIMEZONE
TZID:Europe/Warsaw
X-LIC-LOCATION:Europe/Warsaw
BEGIN:DAYLIGHT
DTSTART:20190331T030000
TZOFFSETFROM:+0100
TZOFFSETTO:+0200
TZNAME:CEST
END:DAYLIGHT
END:VTIMEZONE
END:VCALENDAR