BEGIN:VCALENDAR
VERSION:2.0
PRODID:-//wp-events-plugin.com//7.2.3.1//EN
TZID:Europe/Warsaw
X-WR-TIMEZONE:Europe/Warsaw
BEGIN:VEVENT
UID:38925@night4u.pl
DTSTART;TZID=Europe/Warsaw:20210606T200000
DTEND;TZID=Europe/Warsaw:20210606T220000
DTSTAMP:20210427T204132Z
URL:https://night4u.pl/wydarzenia/grzegorz-turnau-koncert-imieninowy-klub-
 studio-13-03-20/
SUMMARY:Zmiana Daty / Grzegorz Turnau / Klub Studio
DESCRIPTION:Szanowni Państwo\, od dawna wyprzedany koncert\, w związku z 
 aktualnie wprowadzonymi obostrzeniami\, musielibyśmy podzielić na 3 osob
 ne wydarzenia. Dlatego wraz z Artystą postanowiliśmy przełożyć koncer
 t na 6 czerwca 2021.\n\nWszystkie bilety zachowują ważność. Jeżeli je
 dnak komuś z Państwa nie odpowiada nowy termin koncertu\, prosimy o zwro
 t biletów w miejscach ich zakupu.\n\n*Wsparcie ze środków Funduszu Prze
 ciwdziałania COVID-19*\n\n-----\nGrzegorz Turnau  "Koncert Imieninowy"\n6
  czerwca 2021\ngodz. 20:00 / wejście godz. 19:00\nKlub Studio\, ul. Budry
 ka 4\n\nBilety:\nMiejsca na płycie (siedzące nienumerowane):\nUlgowe: 55
  zł przedsprzedaż do 13.02 / 65 zł od 14.02\nNormalne: 70 zł przedsprz
 edaż do 13.02 / 80 zł od 14.02\n\nBalkon(siedzące numerowane): 100 zł 
 przedsprzedaż do 13.02 / 110 od 14.02\n  \nonline:\nTicketClub Polska: ht
 tps://ticketclub.pl/koncerty/grzegorz-turnau-koncert-imieninowy-klub-studi
 o-krakow-1212/\nebilet.pl: https://www.ebilet.pl/muzyka/piosenka/grzegorz-
 turnau/?partner=academica&amp\;promotion=active\n\n******\nGrzegorz Turnau
  stworzył swój własny styl muzyczny i kompozycyjny\, czasami nawiązuj
 ący do muzyki jazzowej\, smooth-jazzowej\, także do dokonań Marka Grech
 uty i Jana Kantego Pawluśkiewicza. Wśród instrumentów główne miejsce
  zajmuje zawsze fortepian\, na którym gra sam Turnau. Towarzyszą mu: sak
 sofon\, obój\, flet\, gitary\, smyczki oraz sekcja rytmiczna (perkusja pl
 us bas). \n\nW latach 1973-1980 uczył się grać na fortepianie w podstaw
 owej szkole muzycznej. Wyjechał na rok do Wielkiej Brytanii\, skąd powr
 ócił i ukończył V Liceum Ogólnokształcące im. Augusta Witkowskiego 
 w Krakowie.\n\nDebiutował na Studenckim Festiwalu Piosenki w Krakowie pio
 senką "Znów Wędrujemy" będąc jeszcze uczniem III klasy liceum. Zdoby
 ł pierwszą nagrodę\, a dzięki niej trafił do Piwnicy pod Baranami zap
 roszony przez Piotra Skrzyneckiego. W latach młodości często jeździł 
 do swoich dziadków do Inowrocławia\, dokąd nadal przyjeżdża\, organiz
 ując koncerty z udziałem swoim i innych zaproszonych przez siebie artyst
 ów (co rok\, w swoje urodziny).\n\nGrzegorz Turnau nagrał dwie płyty po
 święcone twórczości innych artystów: Jeremiego Przybory i Jerzego Was
 owskiego oraz Marka Grechuty.\n\nZnane utwory: Naprawdę nie dzieje się n
 ic\, Cichosza (tekst autorstwa M. Zabłockiego)\, Między ciszą a ciszą\
 , Pamięć\, Bracka (tekst autorstwa M. Zabłockiego)\, To tu\, to tam\, T
 utaj jestem\, Wiem\, Liryka\, Kawałek cienia\, Leniwa głowa\, O\, Kutno!
  (tekst Jeremiego Przybory)\, Bombonierka (duet z Basią Stępniak-Wilk\, 
 tekst współwykonawczyni). Turnau współpracował z takimi artystami jak
  Ewa Małas-Godlewska\, Anna Maria Jopek\, Dorota Miśkiewicz\, Jan Kanty 
 Pawluśkiewicz\, Zbigniew Preisner\, Beata Rybotycka\,Andrzej Sikorowski\,
  Stanisław Soyka\, Justyna Steczkowska\, Magda Umer czy Wojciech Waglewsk
 i.\n\nArtysta jest również kompozytorem muzyki teatralnej i filmowej (m.
 in do filmu Zakochany Anioł).
ATTACH;FMTTYPE=image/jpeg:https://night4u.pl/wp-content/uploads/2021/04/11
 2254_image_159838012_4015532465133422_3455567567168321316_n.jpg
CATEGORIES:małopolskie
LOCATION:Klub Studio\, Budryka 4\, Kraków\, 30-072\, Poland
GEO:50.068057;19.908264
X-APPLE-STRUCTURED-LOCATION;VALUE=URI;X-ADDRESS=Budryka 4\, Kraków\, 30-07
 2\, Poland;X-APPLE-RADIUS=100;X-TITLE=Klub Studio:geo:50.068057,19.908264
END:VEVENT
BEGIN:VTIMEZONE
TZID:Europe/Warsaw
X-LIC-LOCATION:Europe/Warsaw
BEGIN:DAYLIGHT
DTSTART:20210328T030000
TZOFFSETFROM:+0100
TZOFFSETTO:+0200
TZNAME:CEST
END:DAYLIGHT
END:VTIMEZONE
END:VCALENDAR