BEGIN:VCALENDAR
VERSION:2.0
PRODID:-//wp-events-plugin.com//7.2.3.1//EN
TZID:Europe/Warsaw
X-WR-TIMEZONE:Europe/Warsaw
BEGIN:VEVENT
UID:38055@night4u.pl
DTSTART;TZID=Europe/Warsaw:20191207T220000
DTEND;TZID=Europe/Warsaw:20191207T220000
DTSTAMP:20191207T215621Z
URL:https://night4u.pl/wydarzenia/grzeszne-mikolajki-x-bad-santa-x-saturda
 y-7-12/
SUMMARY:Grzeszne MIKOŁAJKI x BAD SANTA x Saturday 7.12
DESCRIPTION:❄️❄️❄️GRZESZNE MIKOŁAJKI ❄️❄️❄️\n\nZ t
 ego się nie wyrasta... Święta kocha każdy! \nJuż 7 grudnia odwiedzi n
 as Święty Mikołaj!\n\nMikołaj co prawda nie będzie miał dla Was nowy
 ch iPhone XI\, ale wspólnie ze swoimi pomocnikami i pomocnicami rozgrzeje
  parkiet do czerwoności!\n\nDj KARPYOU \n\nByliście grzeczni w tym roku?
 \n\n#grzeszne #mikołajki #teatrclub #łódź \n\nStart: 22:00 \n★ DRESS
  CODE ★\nSMART CASUAL!\nBilety: 15 PLN  \nWstęp / 21+ selekcja \nVIP CA
 RD - CAŁĄ NOC FREE\n__________________________________________________\n
 ★ RESERVATIONS ★\ntel.: +48 508 508 488 (pn-sob. 12:00-20:00)\n_______
 ___________________________________________\n★ CONTACT ★\nTEATR CLUB \
 nul. Moniuszki4a \nŁódź 90-111 \n\n\n(i) Klub zastrzega sobie prawo do 
 selekcji gości\, a dress code - modnie i wygodnie\, ale nie na sportowo.
ATTACH;FMTTYPE=image/jpeg:https://night4u.pl/wp-content/uploads/2019/12/10
 8727_image_78204206_2479435599002375_1508644835093905408_n.jpg
CATEGORIES:łódzkie
LOCATION:Teatr Club - Łódź\, Moniuszki 4a\, Łódź\, 90-111\, Poland
GEO:51.768714;19.457977
X-APPLE-STRUCTURED-LOCATION;VALUE=URI;X-ADDRESS=Moniuszki 4a\, Łódź\, 90
 -111\, Poland;X-APPLE-RADIUS=100;X-TITLE=Teatr Club - Łódź:geo:51.76871
 4,19.457977
END:VEVENT
BEGIN:VTIMEZONE
TZID:Europe/Warsaw
X-LIC-LOCATION:Europe/Warsaw
BEGIN:STANDARD
DTSTART:20191027T020000
TZOFFSETFROM:+0200
TZOFFSETTO:+0100
TZNAME:CET
END:STANDARD
END:VTIMEZONE
END:VCALENDAR