BEGIN:VCALENDAR
VERSION:2.0
PRODID:-//wp-events-plugin.com//7.2.3.1//EN
TZID:Europe/Warsaw
X-WR-TIMEZONE:Europe/Warsaw
BEGIN:VEVENT
UID:46163@night4u.pl
DTSTART;TZID=Europe/Warsaw:20200228T210000
DTEND;TZID=Europe/Warsaw:20200229T040000
DTSTAMP:20200229T002924Z
URL:https://night4u.pl/wydarzenia/gta-radio-party-lublin/
SUMMARY:GTA RADIO PARTY   | Lublin
DESCRIPTION:ah shit\, here we go again\n\nall we had to do\, was follow the
  damn party\n\nPokolenie Black Red White zaprasza na imprezę tego typu\n\
 nbędą ładne wizualizacje\n\nbędzie grana fajna muzyczka:\n80s / funk /
  rap / rock / phil collins / aezakmi / all my exes live in texas\n\nwjazd:
  10 pln w przedsprzedaży online / 15 pln w dniu wydarzenia na bramce
ATTACH;FMTTYPE=image/jpeg:https://night4u.pl/wp-content/uploads/2020/02/15
 1369_image_84313580_1430506733790584_3863126540753567744_n.jpg
CATEGORIES:lubelskie
LOCATION:Klub Graffiti\, Al. Piłsudskiego 13\, Lublin\, 20-011\, Poland
GEO:51.240325;22.557024
X-APPLE-STRUCTURED-LOCATION;VALUE=URI;X-ADDRESS=Al. Piłsudskiego 13\, Lubl
 in\, 20-011\, Poland;X-APPLE-RADIUS=100;X-TITLE=Klub Graffiti:geo:51.24032
 5,22.557024
END:VEVENT
BEGIN:VTIMEZONE
TZID:Europe/Warsaw
X-LIC-LOCATION:Europe/Warsaw
BEGIN:STANDARD
DTSTART:20191027T020000
TZOFFSETFROM:+0200
TZOFFSETTO:+0100
TZNAME:CET
END:STANDARD
END:VTIMEZONE
END:VCALENDAR