BEGIN:VCALENDAR
VERSION:2.0
PRODID:-//wp-events-plugin.com//7.2.3.1//EN
TZID:Europe/Warsaw
X-WR-TIMEZONE:Europe/Warsaw
BEGIN:VEVENT
UID:4465@night4u.pl
DTSTART;TZID=Europe/Warsaw:20190124T200000
DTEND;TZID=Europe/Warsaw:20190125T030000
DTSTAMP:20190120T192025Z
URL:https://night4u.pl/wydarzenia/guests-on-the-bar-vol-4-patryk-zagloba-a
 drian-zdunczyk/
SUMMARY:Guests on the bar vol 4: Patryk Zagłoba & Adrian Zduńczyk
DESCRIPTION:Zapraszamy na kolejną edycję gościnnych występów barmańsk
 ich w P29!\n\n24 stycznia za naszym barem stanie dwóch młodych\, co wsp
 ólną przygodę z butelkami rozpoczęło od rzucania nimi za ladą na pla
 ży. \n\nPowitajcie na pokładzie Patryka i Adriana. \nAdrian poznawał al
 kohole za barem w klubie Scenografia. Wcześniej zdobywał doświadczenia 
 pracując w kuchni\, bowiem gotowanie jest jedną z jego zajawek. Spotkaci
 e go za barem w restauracji Bawełna :).\n\nPatryka możecie kojarzyć z s
 hakerowania w rytm klubowej muzyki. Poznał od barowej strony  naprawdę s
 poro lokalnych klubów. Obecnie możecie odwiedzić go w klubie Scenografi
 a (spieszcie się\, bo chłop wyjeżdża do gorącej Grecji). Farewell!\n\
 n\nChłopaki przygotują trzy koktajle w myśl konkursowej zasady:\n- kokt
 ajl bezalkoholowy\n- koktajl niskoalkoholowy (do 10% alkoholu)\n- koktajl 
 wysokoprocentowy (klasyczny)\n\n\nstart: 20:00\nP29 (ul. Piotrkowska 29\, 
 wejście od Więckowskiego)\n24.01\nwstęp wolny.
ATTACH;FMTTYPE=image/jpeg:https://night4u.pl/wp-content/uploads/2019/01/14
 792_image_50551732_299123494077799_5467502292750041088_o.jpg
CATEGORIES:łódzkie
LOCATION:P29\, Piotrkowska 29\, Łódź\, 90-410\, Poland
GEO:51.772549;19.455285
X-APPLE-STRUCTURED-LOCATION;VALUE=URI;X-ADDRESS=Piotrkowska 29\, Łódź\, 
 90-410\, Poland;X-APPLE-RADIUS=100;X-TITLE=P29:geo:51.772549,19.455285
END:VEVENT
BEGIN:VTIMEZONE
TZID:Europe/Warsaw
X-LIC-LOCATION:Europe/Warsaw
BEGIN:STANDARD
DTSTART:20181028T020000
TZOFFSETFROM:+0200
TZOFFSETTO:+0100
TZNAME:CET
END:STANDARD
END:VTIMEZONE
END:VCALENDAR