BEGIN:VCALENDAR
VERSION:2.0
PRODID:-//wp-events-plugin.com//7.2.3.1//EN
TZID:Europe/Warsaw
X-WR-TIMEZONE:Europe/Warsaw
BEGIN:VEVENT
UID:37097@night4u.pl
DTSTART;TZID=Europe/Warsaw:20200214T180000
DTEND;TZID=Europe/Warsaw:20200214T233000
DTSTAMP:20200331T151221Z
URL:https://night4u.pl/wydarzenia/gutalax-we-wroclawiu/
SUMMARY:Gutalax we Wrocławiu! C'mon Barbie! TOi TOi Party!!! Vol.2
DESCRIPTION:Walen-świnkowy pląs w takt muzyki GUTALAX ( cz gore grind )? 
 Chyba nic lepszego nie można sobie w ten dzień wymarzyć! \nDodatkowo GU
 TALAX ( cz gore grind ) zostanie wsparty\, w tym szczególnym terminie\, w
 e Wrocławiu\, przez rosyjskiego deathmetalowego dewastatora - kapelę Abo
 rted Fetus - Ural Massive Brutality\; oraz slam deathmetalowego miazgatora
  z czeskiej Pragi - zespół Congenital Anomalies! Skład uzupełnią kole
 jne 2 polskie wzorowe ekipy! Jedną z nich będzie Planet Hell\, a drugą 
 GOŚĆ SPECJALNY\, który zaskoczy swoją tajemniczą opowieścią! Dodatk
 owo\, w ten niezwykły dzień\, uraczymy Was atrakcjami na miarę wyjątko
 wych imprez! Będzie bardzo fajna zabawa! Ba\, będzie zajebista zabawa! P
 rzybywajcie!!! \n\nLine-up:\n\nGUTALAX (Cze) - GANGSTERSKI ROCK N' SHIT GR
 IND!!!\nhttps://www.facebook.com/gutalax.band/\n\nABORTED FETUS (Rus) - DE
 ATHMETALOWY DEWASTATOR Z ROSJI!!!\nhttps://www.facebook.com/Abortedfetusbr
 utality/\n\nCONGENITAL ANOMALIES (Cze) - SLAM DEATHOWY CZESKI MIAZGATOR!!!
 \nhttps://www.facebook.com/congenitalanomalies/\n\nPLANET HELL (Pol) - PRO
 GRESYWNY DEATH METAL!!!\nhttps://www.facebook.com/planethellband/\n\nGOŚ
 Ć SPECJALNY (Pol) - PATOLOGICZNY GORE GRIND!!!\n\nWjazd (1 szt.):\n75 zł
  - W DNIU KONCERTU NA BRAMCE W KLUBIE\n18 € - ENTRY\n450 KC - NA MISTE\n
 \nZapraszamy!!!\nMad Lion Team\nwww.madlion.eu\nP.s.\nPrzedstawiony harmon
 ogram imprezy ma charakter orientacyjny. \n\nKlub Muzyczny Liverpool\nŚwi
 dnicka 37\n50-029 Wrocław\n--\nOsoby niepełnoletnie potrzebują do udzia
 łu w wydarzeniu pisemnej zgody rodzica lub opiekuna prawnego
ATTACH;FMTTYPE=image/jpeg:https://night4u.pl/wp-content/uploads/2019/11/10
 2306_image_75472866_2773664222657761_2590038143331729408_o.jpg
CATEGORIES:dolnośląskie
LOCATION:Klub Muzyczny Liverpool\, Świdnicka 37\, Wroclaw\, 50-029\, Polan
 d
GEO:51.10401;17.03035
X-APPLE-STRUCTURED-LOCATION;VALUE=URI;X-ADDRESS=Świdnicka 37\, Wroclaw\, 5
 0-029\, Poland;X-APPLE-RADIUS=100;X-TITLE=Klub Muzyczny Liverpool:geo:51.1
 0401,17.03035
END:VEVENT
BEGIN:VTIMEZONE
TZID:Europe/Warsaw
X-LIC-LOCATION:Europe/Warsaw
BEGIN:STANDARD
DTSTART:20191027T020000
TZOFFSETFROM:+0200
TZOFFSETTO:+0100
TZNAME:CET
END:STANDARD
END:VTIMEZONE
END:VCALENDAR