BEGIN:VCALENDAR
VERSION:2.0
PRODID:-//wp-events-plugin.com//7.2.3.1//EN
TZID:Europe/Warsaw
X-WR-TIMEZONE:Europe/Warsaw
BEGIN:VEVENT
UID:6052@night4u.pl
DTSTART;TZID=Europe/Warsaw:20190223T183000
DTEND;TZID=Europe/Warsaw:20190223T230000
DTSTAMP:20190201T053231Z
URL:https://night4u.pl/wydarzenia/guzior-bydgoszcz-evil_things-tour-infini
 ty-club/
SUMMARY:Guzior - Bydgoszcz // Evil_Things Tour // Infinity CLUB
DESCRIPTION:Grupa Patent Event oraz INFINITY CLUB mają ogromną przyjemno
 ść zaprosić na długo oczekiwany koncert  GUZIORa w Bydgoszczy\, promuj
 ący swój album EVIL_THINGS.\nNa koncercie będzie można usłyszeć na 
 żywo numery z Yllom\, EvilTwin oraz najnowszego materiału. Razem z Matim
  na scenie zagra Adamo. \nWpadnij i zróbmy razem ogień!\n\nSUPPORT: Kajs
 on x DAVIDEK + Goście\nPo koncertach AFTER PARTY do rana  zagra Dj Rocked
 \n\nData: 23.02.2019 ( sobota )\nMiejsce: BYDGOSZCZ  –  INFINITY CLUB ul
 : Wyspa Młyńska\nSTART – 18:30 \nKoncert Guziora - 20:30\nWstęp 17 +\
 n\nBILETY Normalne i VIP już dostępne :\nPAT SHOP ul.Zbożowy Rynek 7\nP
 AT SHOP Inowrocław ul. Wałowa 45\nU Promotorów na FB ( info niebawem )\
 noraz ON-LINE na kup.bilet123@gmail.com\nProsimy o wysłanie w maila i wpi
 sanie w treści: Imię Nazwisko / Datę - Miasto Koncertu / Artystę oraz 
 ilość i rodzaj zamówionych biletów.\n\n1 pula - 35 zł / 2 pula - 40 z
 ł\nBILETY VIP* - 80 zł\n\nBilet VIP* :\n- plakat koncertu z autografem G
 uziora\,\n- opaska VIP + Bilet kolekcjonerski\,\n- możliwość wejścia n
 a strefę VIP i spotkania artystów.\nPolecamy mamy ich naprawdę niewiele
  !!\nZapraszamy \;)\n-----------------------------------------------------
 -------------------------
ATTACH;FMTTYPE=image/jpeg:https://night4u.pl/wp-content/uploads/2019/01/18
 132_image_50758830_1125720877608098_8538569123897016320_o.jpg
CATEGORIES:kujawsko-pomorskie
LOCATION:Infinity Club\, Wyspa Młyńska\, Bydgoszcz\, 85-036\, Poland
GEO:53.121257;17.995502
X-APPLE-STRUCTURED-LOCATION;VALUE=URI;X-ADDRESS=Wyspa Młyńska\, Bydgoszcz
 \, 85-036\, Poland;X-APPLE-RADIUS=100;X-TITLE=Infinity Club:geo:53.121257,
 17.995502
END:VEVENT
BEGIN:VTIMEZONE
TZID:Europe/Warsaw
X-LIC-LOCATION:Europe/Warsaw
BEGIN:STANDARD
DTSTART:20181028T020000
TZOFFSETFROM:+0200
TZOFFSETTO:+0100
TZNAME:CET
END:STANDARD
END:VTIMEZONE
END:VCALENDAR