BEGIN:VCALENDAR
VERSION:2.0
PRODID:-//wp-events-plugin.com//7.2.3.1//EN
TZID:Europe/Warsaw
X-WR-TIMEZONE:Europe/Warsaw
BEGIN:VEVENT
UID:33790@night4u.pl
DTSTART;TZID=Europe/Warsaw:20191031T160000
DTEND;TZID=Europe/Warsaw:20191101T020000
DTSTAMP:20191031T054747Z
URL:https://night4u.pl/wydarzenia/halloween-2019-w-melanzu/
SUMMARY:Halloween 2019 w Melanżu
DESCRIPTION:Idealny pomysł na Halloween? 👻💀🎃\nStrasznie mroczne K
 araoke w Melanżu 🎃🎃🎃🎤\nJedyna taka impreza w mieście i jedyn
 a taka noc w roku...\n...spędź ją razem z nami 😱🤗🤩\n✅Orygina
 lny wystrój 😎👻\n✅Pyszne koktajle i zimne piwo 🍺🍹\n✅I oczy
 wiście.... KARAOKE 🎤😍\nZapisy od godziny 21:00 🖊\nWstęp 🆓‼
 ️\nOtwieramy o 16:00 🕓\nDo zobaczenia Melanżowicze ‼️😎🍻
 🤝
ATTACH;FMTTYPE=image/jpeg:https://night4u.pl/wp-content/uploads/2019/10/85
 519_image_73324142_2011046142331148_7750935214880194560_o.jpg
CATEGORIES:zachodniopomorskie
LOCATION:Melanż\, ul.ks. Bogusława X 9\, Szczecin\, 70-440\, Poland
GEO:53.42934;14.54378
X-APPLE-STRUCTURED-LOCATION;VALUE=URI;X-ADDRESS=ul.ks. Bogusława X 9\, Szc
 zecin\, 70-440\, Poland;X-APPLE-RADIUS=100;X-TITLE=Melanż:geo:53.42934,14
 .54378
END:VEVENT
BEGIN:VTIMEZONE
TZID:Europe/Warsaw
X-LIC-LOCATION:Europe/Warsaw
BEGIN:STANDARD
DTSTART:20191027T020000
TZOFFSETFROM:+0200
TZOFFSETTO:+0100
TZNAME:CET
END:STANDARD
END:VTIMEZONE
END:VCALENDAR