BEGIN:VCALENDAR
VERSION:2.0
PRODID:-//wp-events-plugin.com//7.2.3.1//EN
TZID:Europe/Warsaw
X-WR-TIMEZONE:Europe/Warsaw
BEGIN:VEVENT
UID:32984@night4u.pl
DTSTART;TZID=Europe/Warsaw:20191026T210000
DTEND;TZID=Europe/Warsaw:20191027T050000
DTSTAMP:20191026T220418Z
URL:https://night4u.pl/wydarzenia/halloween-3/
SUMMARY:HALLOWEEN
DESCRIPTION:Strzygi\, duchy\, rusałki\, demony\, zombie\, wampiry\, czarow
 nice\, trupie czaszki\, nietoperze\, czarne koty. Odpalamy piekielny ogie
 ń! Zakładamy maski\, kły\, golimy brwi\, oblewamy się krwią z kurczak
 a\, wyciągamy miotłę\, jednym słowem: ODLATUJEMY. \n\nTo jedna z nieli
 cznych szans (dla niektórych) na bezproblemowe przejście selekcji - w pr
 zebraniu prześliźnie się największa poczwara i maszkara.\n\nZa gramofo
 nami: dj Gafo\n\nPiękna Pszczoła\n⭐️ "Najlepszy klub w mieście" ⭐
 ️\n\nStart 21\nWejście free do 23 / 15zł\n\n📅 REZERWACJE \nWszystki
 e informacje dotyczące rezerwacji:\n☎️ 696-43-23-53\n📩 piekna@piek
 napszczola.pl
ATTACH;FMTTYPE=image/jpeg:https://night4u.pl/wp-content/uploads/2019/10/81
 114_image_72439282_355208011898296_3925126584104648704_n.jpg
CATEGORIES:lubelskie
LOCATION:Piękna Pszczoła\, Plac Teatralny 1 (Budynek CSK)\, Lublin\, 20-0
 37\, Poland
GEO:51.246524;22.548666
X-APPLE-STRUCTURED-LOCATION;VALUE=URI;X-ADDRESS=Plac Teatralny 1 (Budynek C
 SK)\, Lublin\, 20-037\, Poland;X-APPLE-RADIUS=100;X-TITLE=Piękna Pszczoł
 a:geo:51.246524,22.548666
END:VEVENT
BEGIN:VTIMEZONE
TZID:Europe/Warsaw
X-LIC-LOCATION:Europe/Warsaw
BEGIN:DAYLIGHT
DTSTART:20190331T030000
TZOFFSETFROM:+0100
TZOFFSETTO:+0200
TZNAME:CEST
END:DAYLIGHT
BEGIN:STANDARD
DTSTART:20191027T020000
TZOFFSETFROM:+0200
TZOFFSETTO:+0100
TZNAME:CET
END:STANDARD
END:VTIMEZONE
END:VCALENDAR