BEGIN:VCALENDAR
VERSION:2.0
PRODID:-//wp-events-plugin.com//7.2.3.1//EN
TZID:Europe/Warsaw
X-WR-TIMEZONE:Europe/Warsaw
BEGIN:VEVENT
UID:33844@night4u.pl
DTSTART;TZID=Europe/Warsaw:20191101T210000
DTEND;TZID=Europe/Warsaw:20191102T050000
DTSTAMP:20191030T093138Z
URL:https://night4u.pl/wydarzenia/halloween-after-party-piatek-1-11-club-8
 0-2/
SUMMARY:Halloween After Party // Piątek 1.11 - Club 80
DESCRIPTION:HALLOWEEN AFTER PARTY // Piątek 1.11 - Club 80\n \n 1 listopad
 a największe HALLOWEEN AFTER PARTY na Śląsku! Właśnie w tę noc klub 
 zamieni się w istny dom strachów! Mile widziane są zombie\, czarownice\
 , wampiry\, potwory rożnego gatunku\, duchy oraz wilkołaki 👿👹 \n \
 n Club 80 to gwarancja STRASZNIE udanej zabawy!\n \n Widzimy się na parki
 ecie o 21! 😘\n--\n🎧 Imprezę nakręca: DJ CIHY\n--\nℹ INFO\n\n➡ 
 START: 🕘 21.00 | DOOR SELECTION\n\n➡ REZERWACJE\n⌨ https://club80gl
 iwice.superboss.pl/\n\n➡ REGULAMIN KLUBU\nhttps://bit.ly/2AqoA65\n\n➡ 
 POROZMAWIAJ ONLINE \nm.me/Club80.Gliwice\n\n➡ WSTĘP\nPANIE do 23:00 - F
 REE\nPANIE po 23:00 - 5zł\nPANOWIE - 10zł\n--\nwww.club80.pl\nwww.fb.com
 /Club80.Gliwice
ATTACH;FMTTYPE=image/jpeg:https://night4u.pl/wp-content/uploads/2019/10/85
 720_image_74238231_2280177845423863_4899260033381957632_o.jpg
CATEGORIES:śląskie
LOCATION:Club 80 Gliwice\, Dubois 22\, Gliwice\, 44-100\, Poland
GEO:50.300203;18.672661
X-APPLE-STRUCTURED-LOCATION;VALUE=URI;X-ADDRESS=Dubois 22\, Gliwice\, 44-10
 0\, Poland;X-APPLE-RADIUS=100;X-TITLE=Club 80 Gliwice:geo:50.300203,18.672
 661
END:VEVENT
BEGIN:VTIMEZONE
TZID:Europe/Warsaw
X-LIC-LOCATION:Europe/Warsaw
BEGIN:STANDARD
DTSTART:20191027T020000
TZOFFSETFROM:+0200
TZOFFSETTO:+0100
TZNAME:CET
END:STANDARD
END:VTIMEZONE
END:VCALENDAR