BEGIN:VCALENDAR
VERSION:2.0
PRODID:-//wp-events-plugin.com//7.2.3.1//EN
TZID:Europe/Warsaw
X-WR-TIMEZONE:Europe/Warsaw
BEGIN:VEVENT
UID:30701@night4u.pl
DTSTART;TZID=Europe/Warsaw:20191026T210000
DTEND;TZID=Europe/Warsaw:20191027T040000
DTSTAMP:20250901T211255Z
URL:https://night4u.pl/wydarzenia/halloween-archiwum-sobota-26-10/
SUMMARY:Halloween #Archiwum /sobota 26.10/
DESCRIPTION:Halloween to jedna z naszych ulubionych imprez w roku  21:00 
 ⬅️\n🔸 Door Selection 🔸\n\nPotrzebujesz lożę❓Zadzwoń 886 886
  108\n\nZapraszamy!
ATTACH;FMTTYPE=image/jpeg:https://night4u.pl/wp-content/uploads/2019/10/70
 945_image_72475315_2606385682717005_7578389370529382400_n.jpg
CATEGORIES:mazowieckie
LOCATION:Archiwum Club\, Grzecznarowskiego 2\, Radom\, 26-600\, Poland
GEO:51.389997;21.149948
X-APPLE-STRUCTURED-LOCATION;VALUE=URI;X-ADDRESS=Grzecznarowskiego 2\, Radom
 \, 26-600\, Poland;X-APPLE-RADIUS=100;X-TITLE=Archiwum Club:geo:51.389997,
 21.149948
END:VEVENT
BEGIN:VTIMEZONE
TZID:Europe/Warsaw
X-LIC-LOCATION:Europe/Warsaw
BEGIN:DAYLIGHT
DTSTART:20190331T030000
TZOFFSETFROM:+0100
TZOFFSETTO:+0200
TZNAME:CEST
END:DAYLIGHT
BEGIN:STANDARD
DTSTART:20191027T020000
TZOFFSETFROM:+0200
TZOFFSETTO:+0100
TZNAME:CET
END:STANDARD
END:VTIMEZONE
END:VCALENDAR