BEGIN:VCALENDAR
VERSION:2.0
PRODID:-//wp-events-plugin.com//7.2.3.1//EN
TZID:Europe/Warsaw
X-WR-TIMEZONE:Europe/Warsaw
BEGIN:VEVENT
UID:34095@night4u.pl
DTSTART;TZID=Europe/Warsaw:20191031T223000
DTEND;TZID=Europe/Warsaw:20191101T050000
DTSTAMP:20191031T053643Z
URL:https://night4u.pl/wydarzenia/halloween-party-2019-by-kakao-events-aft
 erbeng-thursday-31-10/
SUMMARY:Halloween Party 2019 by Kakao Events @Afterbeng | Thursday 31.10
DESCRIPTION:★ Halloween Party 2019 ★ by Kakao Events\n●●● Thursda
 y 31st October // Afterbeng Club ●●●\n(Rynek Główny 28)\n\nShow yo
 ur ★★★ KAKAO CARD ★★★ to get:\n- Free Entrance (from 22:30 to 
 3:30)\n- 4 zł Shot of Cherry-Vodka (or Vodka)\n- 6 zł Beer\n- 10 zł Vod
 ka+Mix (or Cuba Libre)\n- 40 zł for SHISHA\n\nStill don't have your ★
 ★★ KAKAO CARD ★★★?\nClick "going" or "interested" (before 22:00 
 of the day of the party) to this facebook event so you will get ✩FOR FRE
 E✩ at the door of the club the official ★★★ KAKAO CARD ★★★ v
 alid to have free entry and discounts at the bar to all KAKAO PARTIES duri
 ng all the semester !!!!\n\n----------------------------------------------
 -----------------------------\n★ KAKAO EVENTS ★ organize parties EVERY
  NIGHT of the week in different clubs !!!\nFollow our official pages to ge
 t all infos about the best parties in Krakow:\nFacebook: https://www.faceb
 ook.com/KakaoKrakowEvents\nInstagram: https://www.instagram.com/kakaoevent
 s\n-----------------------------------------------------------------------
 ----\n\nLadies &amp\; Gentlemen...\n\nWelcome to the ★ KAKAO HALLOWEEN P
 ARTY 2019 ★ in AFTERBENG Club!!!\n\n★ KAKAO EVENTS ★ is proud to inv
 ite you on THURSDAY 31st OCTOBER to the Scariest and Craziest Halloween Pa
 rty in Krakow!\nMask yourself and join the kingdom of the death in AFTERBE
 NG Club...where all sins are allowed\, where the sexy side of the horror i
 s taking over\, where mad zombies will be dancing following the taste of y
 our body and hot vampires will be seducing you to bite your neck and explo
 re your taste before the sunrise...\n\nShowing your ★★★ KAKAO CARD 
 ★★★ you will have DURING ALL NIGHT LONG:\n\n► FREE ENTRANCE (from 
 22:30 to 3:30)\n\n► 4 zł SHOTS OF CHERRY-VODKA (or VODKA)\n\n► 6 zł 
 BEER\n\n► 10 zł VODKA + Mix / CUBA LIBRE\n\n► 40 zł for SHISHA !\n\n
 REMEMBER: You must always show BEFORE TO ORDER A DRINK your ★★★ KAKA
 O CARD ★★★ to have these InSaNe Discounts on the bar !!!\n\nDON'T LO
 SE YOUR ★★★ KAKAO CARD ★★★ !!!\nIt will allow you to have many
  DISCOUNTS for drinks and FREE ENTRANCE for all next months in all our eve
 nts!!!!\n\nEVERY THURSDAY = ★ AFTERBENG ★\n\n-------------------------
 --------------------------------------------------\nAre you an ERASMUS DJ?
  Contact us on our official pages:\nFacebook: https://www.facebook.com/Kak
 aoKrakowEvents\nInstagram: https://www.instagram.com/kakaoevents\n--------
 -------------------------------------------------------------------\n\n★
  KAKAO EVENTS ★ is a totally original project in Poland\, since 2010\, c
 reated by the international InSaNe Minds of our CrAzY Staff coming from al
 l over the world\, in order to let you enjoy the best clubs &amp\; pubs\, 
 without making you spend ANY MONEY to enter (NEVER!)\, and giving you the 
 chance to drink beers\, shots and many other drinks\, paying almost nothin
 g!\nIs something like this possible..? With ★ KAKAO EVENTS ★ everythin
 g is possible...\nJoin us... get the official ★★★ KAKAO CARD ★★
 ★ TOTALLY FREE... and you will enter the world of parties\, events\, fun
  and madness that will make you enjoy EVERY NIGHT OF THE WEEK during all t
 he semester... always and only in the best clubs &amp\; pubs !\n\nThis is 
 our philosophy of fun... this is our way of life... this is the sweet &amp
 \; tasty world of ★ KAKAO EVENTS ★ !\n\nREMEMBER:\n✔ KK events are A
 LWAYS AND ONLY WITH ENTRANCE FOR FREE ✔\n\nCheck all NEW PHOTOS on our o
 fficial channels:\nFacebook: https://www.facebook.com/KakaoKrakowEvents\nI
 nstagram: https://www.instagram.com/kakaoevents\n\n...enjoy the fun\, tast
 e the KAKAO...\n\n★ KAKAO EVENTS ★ Staff\nkakaokrakowevents@gmail.com
ATTACH;FMTTYPE=image/jpeg:https://night4u.pl/wp-content/uploads/2019/10/87
 218_image_73291300_2638879299504092_8880108720026025984_o.jpg
CATEGORIES:małopolskie
LOCATION:Afterbeng Domówka\, Rynek główny 28\, Kraków\, 31-009\, Poland
GEO:50.0617;19.93572
X-APPLE-STRUCTURED-LOCATION;VALUE=URI;X-ADDRESS=Rynek główny 28\, Kraków
 \, 31-009\, Poland;X-APPLE-RADIUS=100;X-TITLE=Afterbeng Domówka:geo:50.06
 17,19.93572
END:VEVENT
BEGIN:VTIMEZONE
TZID:Europe/Warsaw
X-LIC-LOCATION:Europe/Warsaw
BEGIN:STANDARD
DTSTART:20191027T020000
TZOFFSETFROM:+0200
TZOFFSETTO:+0100
TZNAME:CET
END:STANDARD
END:VTIMEZONE
END:VCALENDAR