BEGIN:VCALENDAR
VERSION:2.0
PRODID:-//wp-events-plugin.com//7.2.3.1//EN
TZID:Europe/Warsaw
X-WR-TIMEZONE:Europe/Warsaw
BEGIN:VEVENT
UID:32556@night4u.pl
DTSTART;TZID=Europe/Warsaw:20191102T210000
DTEND;TZID=Europe/Warsaw:20191103T030000
DTSTAMP:20191102T085855Z
URL:https://night4u.pl/wydarzenia/halloween-party-in-hotshots/
SUMMARY:Halloween Party in HotShots
DESCRIPTION:Już 2 listopada zapraszamy na najmroczniejsze Party w Zielonej
  Górze :O\n\nKoktajle w upiornym wydaniu\, Dead Dance i ostatnia partia w
  Bilard to wszystko w tym jednym miejscu ☠👻\n\nNie zastanawiaj się d
 łużej i przeżyj tę noc z Nami 🤡\n\nR E Z E R W A C J E!\n535 551 13
 0 👻
ATTACH;FMTTYPE=image/jpeg:https://night4u.pl/wp-content/uploads/2019/10/78
 320_image_72423370_2672607179426441_3725612008742060032_o.jpg
CATEGORIES:lubuskie
LOCATION:Hot Shots Music Club &amp\; Bilard\, Gen. Jarosława Dąbrowskiego
  41a/1\, Zielona Góra\, 65-021\, Poland
GEO:51.94453;15.4987
X-APPLE-STRUCTURED-LOCATION;VALUE=URI;X-ADDRESS=Gen. Jarosława Dąbrowskie
 go 41a/1\, Zielona Góra\, 65-021\, Poland;X-APPLE-RADIUS=100;X-TITLE=Hot 
 Shots Music Club & Bilard:geo:51.94453,15.4987
END:VEVENT
BEGIN:VTIMEZONE
TZID:Europe/Warsaw
X-LIC-LOCATION:Europe/Warsaw
BEGIN:STANDARD
DTSTART:20191027T020000
TZOFFSETFROM:+0200
TZOFFSETTO:+0100
TZNAME:CET
END:STANDARD
END:VTIMEZONE
END:VCALENDAR