BEGIN:VCALENDAR
VERSION:2.0
PRODID:-//wp-events-plugin.com//7.2.3.1//EN
TZID:Europe/Warsaw
X-WR-TIMEZONE:Europe/Warsaw
BEGIN:VEVENT
UID:32912@night4u.pl
DTSTART;TZID=Europe/Warsaw:20191026T210000
DTEND;TZID=Europe/Warsaw:20191027T050000
DTSTAMP:20191026T063734Z
URL:https://night4u.pl/wydarzenia/halloween-party-show-mimow-%e2%9c%aa-sob
 -26-10/
SUMMARY:Halloween Party - Show Mimów ✪ Sob. 26.10
DESCRIPTION:26 października w sobotę HALLOWEEN PARTY - czyli Noc Grozy! T
 ej nocy Pomarańcze nawiedzą zombie\, wampiry\, czarownice\, wilkołaki i
  inne potwory 👹👿 Specjalnie dla Was całkowicie zmienimy wystrój kl
 ubu a dodatkowo imprezę uświetni SHOW MIMÓW.\n\nPamiętajcie\, osoby ca
 łkowicie PRZEBRANE wchodzą do 24 za FREE!\n\nTo będzie naprawdę strasz
 nie fajna impreza! 🤣\n--\nINFORMACJE\n📅 26.10 - SOBOTA\n🕘 Start: 
 21:00\n🔞 Selekcja: +18\n🎫 Wstęp: \nPanie - 15zł\nPanowie - 20zł\n
 Panie do 22:00 - WSTĘP FREE\n📌 Katowice\, ul. Mickiewicza 4\, Galeria 
 Skarbek (Rynek)\n--\nRESTAURACJA STREET FOOD 🌮 🍔\nPrzez cały czas t
 rwania imprezy czynna jest restauracja TACO LOCO STREET FOOD!\n--\nPROMOCJ
 E\n🎂 Odprawimy Twoje urodziny!\nA także zorganizujemy:\n💃 Wieczór 
 Panieński\n🕺 Wieczór Kawalerski\nRezerwacje od wtorku do soboty od 13
 :00 do 21:00\n📱 536 901 907\n📧 mojaimpreza@pomaranczagroup.pl\n--\nR
 EZERWACJA LOŻY\nRezerwacje loży online: https://klubpomarancza.pl/katowi
 ce/rezerwacjalozy/\n--\nMUZYKA\nSALA KLUBOWA ▶ DC-LUCK\, ROBEE\nSALA DAN
 CE ▶ PAUL SECCO\nSALA CUBANA ▶ OZZY F\n--\nINSTAGRAM\nwww.instagram.co
 m/pomarancza_katowice
ATTACH;FMTTYPE=image/jpeg:https://night4u.pl/wp-content/uploads/2019/10/80
 918_image_72728577_2772836392735364_1613170096966991872_o.jpg
CATEGORIES:śląskie
LOCATION:Klub Pomarańcza Katowice\, Mickiewicza 4\, Katowice\, 40-092\, Po
 land
GEO:50.25976;19.02082
X-APPLE-STRUCTURED-LOCATION;VALUE=URI;X-ADDRESS=Mickiewicza 4\, Katowice\, 
 40-092\, Poland;X-APPLE-RADIUS=100;X-TITLE=Klub Pomarańcza Katowice:geo:5
 0.25976,19.02082
END:VEVENT
BEGIN:VTIMEZONE
TZID:Europe/Warsaw
X-LIC-LOCATION:Europe/Warsaw
BEGIN:DAYLIGHT
DTSTART:20190331T030000
TZOFFSETFROM:+0100
TZOFFSETTO:+0200
TZNAME:CEST
END:DAYLIGHT
BEGIN:STANDARD
DTSTART:20191027T020000
TZOFFSETFROM:+0200
TZOFFSETTO:+0100
TZNAME:CET
END:STANDARD
END:VTIMEZONE
END:VCALENDAR