BEGIN:VCALENDAR
VERSION:2.0
PRODID:-//wp-events-plugin.com//7.2.3.1//EN
TZID:Europe/Warsaw
X-WR-TIMEZONE:Europe/Warsaw
BEGIN:VEVENT
UID:33949@night4u.pl
DTSTART;TZID=Europe/Warsaw:20191029T210000
DTEND;TZID=Europe/Warsaw:20191030T040000
DTSTAMP:20200401T081152Z
URL:https://night4u.pl/wydarzenia/halloween-party-uwr-2019-w-domowce/
SUMMARY:Halloween Party UWr 2019 w Domówce
DESCRIPTION:🇺🇸🇺🇸🇺🇸BELOW🇺🇸🇺🇸🇺🇸\n⚰  Leg
 endarna impreza w Domówce powraca! \n👻 Już po raz PIĄTY spotkamy si
 ę na najstraszniejszym Halloween w mieście! \n\n🔥 29 października cz
 eka nas PIEKIELNIE dobra impreza w klimacie strachu\, ciężkiego dymu i w
 ykręconych postaci. \n🎭 Odkurzcie wampirze peleryny\, wyjmijcie z szaf
 y suknie gnijących Panien Młodych\, zacznijcie elektryzować włosy! \n
 🍷 Czekają krwawe drinki i zimniejsze niż niejeden umarlak napoje.\n\n
 ➡ 29 października\, Klub Domówka\, 21:00 ⬅\n\nSkusisz się na dreszc
 zyk emocji? 😉\n\n🇺🇸🇺🇸🇺🇸🇺🇸🇺🇸🇺🇸🇺
 🇸🇺🇸🇺🇸🇺🇸🇺🇸🇺🇸🇺🇸🇺🇸\n\n⚰  The n
 ow-legendary party in the Domówka Club is back again! \n👻 For the FIFT
 H time come join us at the spookiest Halloween party this city has seen! \
 n\n🔥 On the 29th of October\, we will have one HELL of a party in an at
 mosphere of fear\, heavy smoke\, and ghosts.\n🎭 Shake the dust off your
  vampire capes\, get the Corpse Bride wedding dresses out of the closets\,
  and start making your hair look all frizzy\, Mad Scientist style! \n🍷 
 Waiting for you there will be shots red as blood and drinks colder than de
 ad bodies.\n➡ 29th of October\, the Domówka Club\, 21:00 ⬅\n\nAre you
  in for some thrill of emotion? 😉
ATTACH;FMTTYPE=image/jpeg:https://night4u.pl/wp-content/uploads/2019/10/86
 088_image_75388446_2492563404167878_581205776337469440_o.jpg
CATEGORIES:dolnośląskie
LOCATION:Domówka\, Wroclaw\, Poland
GEO:51.110311;17.032917
X-APPLE-STRUCTURED-LOCATION;VALUE=URI;X-ADDRESS=Wroclaw\, Poland;X-APPLE-RA
 DIUS=100;X-TITLE=Domówka:geo:51.110311,17.032917
END:VEVENT
BEGIN:VTIMEZONE
TZID:Europe/Warsaw
X-LIC-LOCATION:Europe/Warsaw
BEGIN:STANDARD
DTSTART:20191027T020000
TZOFFSETFROM:+0200
TZOFFSETTO:+0100
TZNAME:CET
END:STANDARD
END:VTIMEZONE
END:VCALENDAR