BEGIN:VCALENDAR
VERSION:2.0
PRODID:-//wp-events-plugin.com//7.2.3.1//EN
TZID:Europe/Warsaw
X-WR-TIMEZONE:Europe/Warsaw
BEGIN:VEVENT
UID:33060@night4u.pl
DTSTART;TZID=Europe/Warsaw:20191026T210000
DTEND;TZID=Europe/Warsaw:20191027T040000
DTSTAMP:20191027T010237Z
URL:https://night4u.pl/wydarzenia/halloween-party-x-club-nafta/
SUMMARY:Halloween Party x Club Nafta
DESCRIPTION:Kontynuujemy kolorową jesień! Niech nie tylko za oknem będzi
 e kolorowo! Przebierzcie się i bawcie się w Nafcie! Osoby\, które przeb
 iorą się w stroje Halloween'owe wejdą w ten wieczór do klubu bezpłatn
 ie! \n\n🔶🔶🔶🔶🔶🔶\nMUSIC\nDJ BARTI\n\n🔶🔶🔶🔶🔶
 🔶\nPROMO BAR\nTequila 12 PLN\n\n🔶🔶🔶🔶🔶🔶\nWJAZD\nOsoby\
 , które przebiorą się w stroje Halloween'owe wejdą w ten wieczór do k
 lubu bezpłatnie! \ndo 22:00 dziewczyny -&gt\; 10 zł\nnormalnie: 16 zł\n
 Wiek: +21\n\n🔶🔶🔶🔶🔶🔶\nREZERWACJE LOŻY:\nTEL: 785 930 565
ATTACH;FMTTYPE=image/jpeg:https://night4u.pl/wp-content/uploads/2019/10/81
 361_image_73388349_1601231456680427_4839781071409119232_o.jpg
CATEGORIES:podkarpackie
LOCATION:Club Nafta\, ul. Lwowska 21\, Krosno\, 38-440\, Poland
GEO:49.683733;21.772154
X-APPLE-STRUCTURED-LOCATION;VALUE=URI;X-ADDRESS=ul. Lwowska 21\, Krosno\, 3
 8-440\, Poland;X-APPLE-RADIUS=100;X-TITLE=Club Nafta:geo:49.683733,21.7721
 54
END:VEVENT
BEGIN:VTIMEZONE
TZID:Europe/Warsaw
X-LIC-LOCATION:Europe/Warsaw
BEGIN:DAYLIGHT
DTSTART:20190331T030000
TZOFFSETFROM:+0100
TZOFFSETTO:+0200
TZNAME:CEST
END:DAYLIGHT
BEGIN:STANDARD
DTSTART:20191027T020000
TZOFFSETFROM:+0200
TZOFFSETTO:+0100
TZNAME:CET
END:STANDARD
END:VTIMEZONE
END:VCALENDAR