BEGIN:VCALENDAR
VERSION:2.0
PRODID:-//wp-events-plugin.com//7.2.3.1//EN
TZID:Europe/Warsaw
X-WR-TIMEZONE:Europe/Warsaw
BEGIN:VEVENT
UID:33380@night4u.pl
DTSTART;TZID=Europe/Warsaw:20191031T210000
DTEND;TZID=Europe/Warsaw:20191101T040000
DTSTAMP:20191030T102932Z
URL:https://night4u.pl/wydarzenia/halloween-popek-omen-carbon-club-sepolno
 -krajenskie/
SUMMARY:Halloween // Popek &amp\; Omen // Carbon Club // Sępólno Krajeńs
 kie
DESCRIPTION:Czas na prawdziwe mroczne HALLOWEEN w Carbon Club!\n31 paździe
 rnika w czwartek po raz pierwszy w naszym klubie prawdziwa gwiazda:\n🔥
 🔥🔥 Popek Monster 🔥🔥🔥\noraz \n🔥🔥🔥 Dj Omen🔥🔥
 🔥 \n\nNa żywo twórca takich hitów jak: \n\n🎵Popek x Matheo - Wodo
 spady\n💡🎧 https://www.youtube.com/watch?v=rrKSc6lHeC4\n\n🎵POPEK M
 ONSTER - DIRTY DIANA\n💡🎧 https://www.youtube.com/watch?v=p6Z-gsQLJjk
 \n\n🎵Popek/Dj Omen/Motion "Welcome in the hell"\n💡🎧 https://www.y
 outube.com/watch?v=89TCxalDZXQ\n\nUpiory\, duszki\, specjalny mroczny wyst
 rój klubu to właśnie HALLOWEEN w Carbon Club. Przebierajcie się\, malu
 jcie i wpadajcie na imprezę. Najbardziej wystrzałowo przebrane osoby wst
 ęp FREE (decyduje selekcjoner).\n\n❌❌ UWAGA KONKURS! ❌❌\nDo zgarn
 ięcia:\n🎁 Pakiet VIP (bon 500 zł + podwójna wejściówka)\n🎁 20 x
  podwójna wejściówka\n🎁 10 x pojedyncza wejściówka\n\nAby wziąć 
 udział w losowaniu należy:\n✅ zaprosić minimum 150 osób do wydarzeni
 a\n✅ udostępnić wydarzenie publicznie\n✅ napisać w wydarzeniu ile o
 sób zostało przez Ciebie zaproszonych\n\nSzczęśliwych zwycięzców wyl
 osujemy w środę 30 października wieczorem.
ATTACH;FMTTYPE=image/jpeg:https://night4u.pl/wp-content/uploads/2019/10/82
 845_image_72729020_2714350035277061_95338442791059456_o.jpg
CATEGORIES:kujawsko-pomorskie
LOCATION:Carbon Club\, Sepolno Krajenskie\, Poland
GEO:53.45456;17.5414
X-APPLE-STRUCTURED-LOCATION;VALUE=URI;X-ADDRESS=Sepolno Krajenskie\, Poland
 ;X-APPLE-RADIUS=100;X-TITLE=Carbon Club:geo:53.45456,17.5414
END:VEVENT
BEGIN:VTIMEZONE
TZID:Europe/Warsaw
X-LIC-LOCATION:Europe/Warsaw
BEGIN:STANDARD
DTSTART:20191027T020000
TZOFFSETFROM:+0200
TZOFFSETTO:+0100
TZNAME:CET
END:STANDARD
END:VTIMEZONE
END:VCALENDAR