BEGIN:VCALENDAR
VERSION:2.0
PRODID:-//wp-events-plugin.com//7.2.3.1//EN
TZID:Europe/Warsaw
X-WR-TIMEZONE:Europe/Warsaw
BEGIN:VEVENT
UID:34013@night4u.pl
DTSTART;TZID=Europe/Warsaw:20191030T210000
DTEND;TZID=Europe/Warsaw:20191031T040000
DTSTAMP:20191030T225914Z
URL:https://night4u.pl/wydarzenia/halloween-student-party-sroda-30-10-cina
 -club/
SUMMARY:Halloween Student Party - Środa 30.10 - Cina Club
DESCRIPTION:W środę 30 października zapraszamy wszystkie czarownice\, zo
 mbie\, diablice\, zjawy\, duchy\, potwory oraz wszelkiej maści inne hallo
 weenowe postaci na doroczną studencką imprezę przebieraną Halloween St
 udent Party. W najbliższa środę zapewnimy Wam halloweenowy klimat\, dri
 nki oraz specjalny mix muzyczny przygotowany przez rezydenta klubu Cina - 
 DJ Dee Pusha.\n\nPRZEZ CAŁĄ NOC OSOBY PRZEBRANE WSTĘP FREE\nstudenci do
  godz. 23:00 wstęp free\, po godz. 23:00 wstęp 7 zł.\n\nZarezerwuj bezp
 łatną halloweenową lożę:\nwww.emenago.opole.pl
ATTACH;FMTTYPE=image/jpeg:https://night4u.pl/wp-content/uploads/2019/10/86
 853_image_72541624_2757287784334786_7943171478533439488_o.jpg
CATEGORIES:opolskie
LOCATION:Cina Club\, Katowicka 55\, Opole\, 45-061\, Poland
GEO:50.667448;17.93523
X-APPLE-STRUCTURED-LOCATION;VALUE=URI;X-ADDRESS=Katowicka 55\, Opole\, 45-0
 61\, Poland;X-APPLE-RADIUS=100;X-TITLE=Cina Club:geo:50.667448,17.93523
END:VEVENT
BEGIN:VTIMEZONE
TZID:Europe/Warsaw
X-LIC-LOCATION:Europe/Warsaw
BEGIN:STANDARD
DTSTART:20191027T020000
TZOFFSETFROM:+0200
TZOFFSETTO:+0100
TZNAME:CET
END:STANDARD
END:VTIMEZONE
END:VCALENDAR