BEGIN:VCALENDAR
VERSION:2.0
PRODID:-//wp-events-plugin.com//7.2.3.1//EN
TZID:Europe/Warsaw
X-WR-TIMEZONE:Europe/Warsaw
BEGIN:VEVENT
UID:33285@night4u.pl
DTSTART;TZID=Europe/Warsaw:20191031T220000
DTEND;TZID=Europe/Warsaw:20191101T050000
DTSTAMP:20191031T054007Z
URL:https://night4u.pl/wydarzenia/halloween-w-p29/
SUMMARY:Halloween w P29!
DESCRIPTION:042 Events powraca 🎃\n\nCukierek albo psikus❓ \nTy wybiera
 sz❗\nNie ma co się rozpisywać. \nPo prostu Halloween w P29❗\nPrzebra
 nia mile widziane. \n\nZagrają:\nBlumental 👻\nVHT 👻\nLuke P 👻\n\
 nMuzyka:\nHouse / Deep / Tech\n\nWjazd: 10 pln\nStart: 22:00
ATTACH;FMTTYPE=image/jpeg:https://night4u.pl/wp-content/uploads/2019/10/82
 429_image_72583239_2354683288114886_6360577154962423808_o.jpg
CATEGORIES:łódzkie
LOCATION:P29\, Piotrkowska 29\, Łódź\, 90-410\, Poland
GEO:51.772549;19.455285
X-APPLE-STRUCTURED-LOCATION;VALUE=URI;X-ADDRESS=Piotrkowska 29\, Łódź\, 
 90-410\, Poland;X-APPLE-RADIUS=100;X-TITLE=P29:geo:51.772549,19.455285
END:VEVENT
BEGIN:VTIMEZONE
TZID:Europe/Warsaw
X-LIC-LOCATION:Europe/Warsaw
BEGIN:STANDARD
DTSTART:20191027T020000
TZOFFSETFROM:+0200
TZOFFSETTO:+0100
TZNAME:CET
END:STANDARD
END:VTIMEZONE
END:VCALENDAR