BEGIN:VCALENDAR
VERSION:2.0
PRODID:-//wp-events-plugin.com//7.2.3.1//EN
TZID:Europe/Warsaw
X-WR-TIMEZONE:Europe/Warsaw
BEGIN:VEVENT
UID:32384@night4u.pl
DTSTART;TZID=Europe/Warsaw:20191031T220000
DTEND;TZID=Europe/Warsaw:20191101T050000
DTSTAMP:20191031T073330Z
URL:https://night4u.pl/wydarzenia/halloween-w-rajzefiber-by-dj-czarny-dj-g
 rzesku/
SUMMARY:Halloween w Rajzefiber by DJ Czarny & DJ Grzesku
DESCRIPTION:31.10 w czwartek zapraszamy do Rajzefiber na specjalną hallowe
 enową imprezę! Stworzymy mroczny klimat\, w głośnikach będzie rozbrzm
 iewać "Thrilller" Michaela Jacksona czy Ghostbusters :D\n\nZagrają:\nDJ 
 Czarny\nDJ Grzesku\n\n______________________________________\n» OTWARTE: 
 20:00\n» DJ START: 22:00\n» WEJŚCIE: 23+\n\n» KONTAKT: tel. 884 905 16
 8 / e-mail: manager@rajzefiber.com\n» Rajzefiber\, ul. 3 Maja 23/3\, Kato
 wice
ATTACH;FMTTYPE=image/jpeg:https://night4u.pl/wp-content/uploads/2019/10/77
 722_image_72473657_2754684774550959_5330811827523682304_n.jpg
CATEGORIES:śląskie
LOCATION:Rajzefiber\, ul. 3-go Maja 23/3\, Katowice\, 40-097\, Poland
GEO:50.25981;19.01673
X-APPLE-STRUCTURED-LOCATION;VALUE=URI;X-ADDRESS=ul. 3-go Maja 23/3\, Katowi
 ce\, 40-097\, Poland;X-APPLE-RADIUS=100;X-TITLE=Rajzefiber:geo:50.25981,19
 .01673
END:VEVENT
BEGIN:VTIMEZONE
TZID:Europe/Warsaw
X-LIC-LOCATION:Europe/Warsaw
BEGIN:STANDARD
DTSTART:20191027T020000
TZOFFSETFROM:+0200
TZOFFSETTO:+0100
TZNAME:CET
END:STANDARD
END:VTIMEZONE
END:VCALENDAR