BEGIN:VCALENDAR
VERSION:2.0
PRODID:-//wp-events-plugin.com//7.2.3.1//EN
TZID:Europe/Warsaw
X-WR-TIMEZONE:Europe/Warsaw
BEGIN:VEVENT
UID:33242@night4u.pl
DTSTART;TZID=Europe/Warsaw:20191102T220000
DTEND;TZID=Europe/Warsaw:20191102T220000
DTSTAMP:20191102T215729Z
URL:https://night4u.pl/wydarzenia/halloween-x-mroczna-noc-x-moniuszki4a-1-
 2-11/
SUMMARY:HALLOWEEN x mroczna NOC x #moniuszki4a // 1/2.11
DESCRIPTION:#mrocznaNOC \n\nDWA dni HALLOWEEN na #moniuszki4a ! \n\n\nOsoby
  przebrane - wstęp FREE \n\nStart: 22:00 \n★ DRESS CODE ★\nSMART CASU
 AL!\nBilety: 15PLN \nWstęp / +21 SELEKCJA \n\nVIP CARD - CAŁĄ NOC FREE\
 nOSOBY POWYŻEJ 30 ROKU ZYCIA - WSTĘP DO 24:00 FREE\n____________________
 ______________________________\n★ RESERVATIONS ★\ntel.: +48 508 508 48
 8 (pn-sob. 12:00-20:00)\n_________________________________________________
 _\n★ CONTACT ★\nTEATR CLUB \nul. Moniuszki4a \nŁódź 90-111 \n\n\n(i
 ) Klub zastrzega sobie prawo do selekcji gości\, a dress code - modnie i 
 wygodnie\, ale nie na sportowo.
ATTACH;FMTTYPE=image/jpeg:https://night4u.pl/wp-content/uploads/2019/10/82
 208_image_75199773_2442176156061653_6799979148593856512_n.jpg
CATEGORIES:łódzkie
END:VEVENT
BEGIN:VTIMEZONE
TZID:Europe/Warsaw
X-LIC-LOCATION:Europe/Warsaw
BEGIN:STANDARD
DTSTART:20191027T020000
TZOFFSETFROM:+0200
TZOFFSETTO:+0100
TZNAME:CET
END:STANDARD
END:VTIMEZONE
END:VCALENDAR