BEGIN:VCALENDAR
VERSION:2.0
PRODID:-//wp-events-plugin.com//7.2.3.1//EN
TZID:Europe/Warsaw
X-WR-TIMEZONE:Europe/Warsaw
BEGIN:VEVENT
UID:33824@night4u.pl
DTSTART;TZID=Europe/Warsaw:20191030T220000
DTEND;TZID=Europe/Warsaw:20191031T010000
DTSTAMP:20191030T090801Z
URL:https://night4u.pl/wydarzenia/halloweenowe-bingo-z-mariolkaa-rebell-i-
 candy/
SUMMARY:Halloweenowe bingo z Mariolkaa REbell i Candy
DESCRIPTION:HALLOWEENOWE BINGO \nszczegółowe informacje\n🎱BINGO 🎱BI
 NGO 🎱BINGO🎱\n\n🖤 Środa x BINGO x Mariolkaa Rebell x Candy 🖤 \
 nZasady są już Wam bardzo dobrze znane ♥ W końcu co tydzień widzimy 
 się w licznym gronie\, zatem i w tym nie odpuścimy :)\nProwadzące:  MAR
 IOLKAA\nSpecial Guest: ??\nBądźcie czujni ☝🏻 podczas #Bingo\, dziew
 częta będą losowały VOUCHERY do naszych Przyjaciół   \, Mięso na p
 łocie  vouchery \nna tatuaż do Bandψta\nEmilia Mikii i mnóstwo niespod
 zianek👌🏻\noraz mroczne drinki
ATTACH;FMTTYPE=image/jpeg:https://night4u.pl/wp-content/uploads/2019/10/85
 635_image_73395429_505268190053859_5950183258779025408_n.jpg
CATEGORIES:wielkopolskie
LOCATION:Punto Punto Club\, Podgórna 12\, Poznan\, 61-828\, Poland
GEO:52.40596;16.92945
X-APPLE-STRUCTURED-LOCATION;VALUE=URI;X-ADDRESS=Podgórna 12\, Poznan\, 61-
 828\, Poland;X-APPLE-RADIUS=100;X-TITLE=Punto Punto Club:geo:52.40596,16.9
 2945
END:VEVENT
BEGIN:VTIMEZONE
TZID:Europe/Warsaw
X-LIC-LOCATION:Europe/Warsaw
BEGIN:STANDARD
DTSTART:20191027T020000
TZOFFSETFROM:+0200
TZOFFSETTO:+0100
TZNAME:CET
END:STANDARD
END:VTIMEZONE
END:VCALENDAR