BEGIN:VCALENDAR
VERSION:2.0
PRODID:-//wp-events-plugin.com//7.2.3.1//EN
TZID:Europe/Warsaw
X-WR-TIMEZONE:Europe/Warsaw
BEGIN:VEVENT
UID:41693@night4u.pl
DTSTART;TZID=Europe/Warsaw:20200111T200000
DTEND;TZID=Europe/Warsaw:20200112T050000
DTSTAMP:20200111T183912Z
URL:https://night4u.pl/wydarzenia/hands-up-party-sobota-11-01-club-80-2/
SUMMARY:Hands Up Party // Sobota 11.01- Club 80
DESCRIPTION:HANDS UP PARTY // Sobota 11.01 - Club 80\n\nLadies and Gentleme
 n\, Panie i Panowie wszystkie ręce w górę 🤩Sobota jak zawsze w naszy
 m klubie obfitować będzie w najlepsze dźwięki\, serwowane z rąk naszy
 ch rezydentów. Rozkręcimy karnawał 2020 w najlepszym stylu 💃🕺 \n\
 nStartujemy o 20:00 - bądźcie z nami! 😍😍😍\n \n--\n🎧 Imprezę
  nakręca: DJ CIHY\n--\nℹ INFO\n\n➡ START: 🕘 20.00 | DOOR SELECTION
 \n\n➡ REZERWACJE\n⌨ https://club80gliwice.superboss.pl/\n\n➡ REGULAM
 IN KLUBU\nhttps://bit.ly/2AqoA65\n\n➡ POROZMAWIAJ ONLINE \nm.me/Club80.G
 liwice\n--\nwww.club80.pl\nwww.fb.com/Club80.Gliwice
ATTACH;FMTTYPE=image/jpeg:https://night4u.pl/wp-content/uploads/2020/01/13
 0795_image_82032962_2425524087555904_1130740055812341760_o.jpg
CATEGORIES:śląskie
LOCATION:Club 80 Gliwice\, Dubois 22\, Gliwice\, 44-100\, Poland
GEO:50.300203;18.672661
X-APPLE-STRUCTURED-LOCATION;VALUE=URI;X-ADDRESS=Dubois 22\, Gliwice\, 44-10
 0\, Poland;X-APPLE-RADIUS=100;X-TITLE=Club 80 Gliwice:geo:50.300203,18.672
 661
END:VEVENT
BEGIN:VTIMEZONE
TZID:Europe/Warsaw
X-LIC-LOCATION:Europe/Warsaw
BEGIN:STANDARD
DTSTART:20191027T020000
TZOFFSETFROM:+0200
TZOFFSETTO:+0100
TZNAME:CET
END:STANDARD
END:VTIMEZONE
END:VCALENDAR