BEGIN:VCALENDAR
VERSION:2.0
PRODID:-//wp-events-plugin.com//7.2.3.1//EN
TZID:Europe/Warsaw
X-WR-TIMEZONE:Europe/Warsaw
BEGIN:VEVENT
UID:32751@night4u.pl
DTSTART;TZID=Europe/Warsaw:20191113T200000
DTEND;TZID=Europe/Warsaw:20191113T230000
DTSTAMP:20191019T143503Z
URL:https://night4u.pl/wydarzenia/hania-rani-we-wroclawiu-sold-out/
SUMMARY:Hania Rani we Wrocławiu - Sold Out!
DESCRIPTION:Hania Rani  w Synagodze pod Białym Bocianem we Wrocławiu!\n\n
 Hania Rani  wystąpi 13 listopada w klimatycznej sali wrocławskiej  Synag
 ogi pod Białym Bocianem.\n\nPianistka\, kompozytorka\, wokalistka. Wspó
 łtworzy projekty Hania Rani &amp\; Dobrawa Czocher (album "Biała flaga" 
 2015) oraz Tęskno\, którego album "Mi" został uhonorowany w 2018 roku n
 agrodą im. Grzegorza Ciechowskiego oraz nominacją do Fryderyków w kateg
 orii Debiut Roku. Dodatkowo współpracuje i występuje z takimi artystami
  jak m.in. Christian Löffler (projekt "Nest")\, Hior Chronik\, Igor Herbu
 t\, Kamp czy Misia Furtak (album "Co przyjdzie?").\n\n5 kwietnia miała mi
 ejsce premiera jej pierwszej\, solowej płyty \nnagrywanej w Reykjaviku\, 
 Warszawie i Amsterdamie\, która została wydana przez prestiżową brytyj
 ską wytwórnię Gondwana Records (Portico Quartet\, Go Go Penguins\, Matt
 hew Halsall). Pierwszy singiel „Glass" premierowo zaprezentowała Mary A
 nne Hobbs w swojej audycji dla BBC Radio 6. Miesiąc po premierze albumu m
 iała na koncie wyprzedane koncerty w Warszawie\, Londynie i Paryżu\, a o
  jej muzycznych dokonaniach rozpisuje się prasa w całej Europie. Jesieni
 ą Hania Rani wróci do Londynu i Paryża\, ale wystąpi też m.in. w Mosk
 wie\, Brukseli\, Monachium czy Tokio!\n\nHania Rani grała już na renomow
 anych scenach koncertowych m.in. w Filharmonii Narodowej w Warszawie\, Fun
 khaus w Berlinie czy londyńskim Roundhouse oraz festiwalach: Open'er\, Eu
 rosonic\, Scope\, Spring Break czy Transatlantyk. Dała kilkadziesiąt wys
 tępów na terenie całej Europy: w Niemczech\, Austrii\, Czechach\, Belgi
 i\, Finlandii\, Szwecji Włoszech\, na \nWęgrzech\, Portugalii\, Holandii
 \, Litwie\, ale również na Islandii i w \nTurcji. Od 7 lat tworzy autors
 ką muzykę\, której owocem są projekty mające na celu przekroczenie gr
 anic podziału na gatunki i style - np. nowe aranżacje pieśni Johna Dowl
 anda na kwintet smyczkowy i solistów\, projekt muzyczno-akustyczny "Prelu
 dium i Fuga na 3 akustyki" czy muzyka do filmów i spektakli teatralnych (
 m.in. w 2018 roku do spektaklu "Pradziady" dla Teatru Telewizji).\n\n13.11
 .19 godz.20.00 \nSynagoga pod Białym Bocianem\, ul. Włodkowica 7 \nHANIA
  RANI  \n\nbilety: WYPRZEDANE!
ATTACH;FMTTYPE=image/jpeg:https://night4u.pl/wp-content/uploads/2019/10/79
 992_image_67736622_2357296501052138_938343014353338368_o.jpg
CATEGORIES:dolnośląskie
LOCATION:Synagoga Pod Białym Bocianem\, Włodkowica 7\, Wroclaw\, 50-072\,
  Poland
GEO:51.108244;17.025202
X-APPLE-STRUCTURED-LOCATION;VALUE=URI;X-ADDRESS=Włodkowica 7\, Wroclaw\, 5
 0-072\, Poland;X-APPLE-RADIUS=100;X-TITLE=Synagoga Pod Białym Bocianem:ge
 o:51.108244,17.025202
END:VEVENT
BEGIN:VTIMEZONE
TZID:Europe/Warsaw
X-LIC-LOCATION:Europe/Warsaw
BEGIN:STANDARD
DTSTART:20191027T020000
TZOFFSETFROM:+0200
TZOFFSETTO:+0100
TZNAME:CET
END:STANDARD
END:VTIMEZONE
END:VCALENDAR