BEGIN:VCALENDAR
VERSION:2.0
PRODID:-//wp-events-plugin.com//7.2.3.1//EN
TZID:Europe/Warsaw
X-WR-TIMEZONE:Europe/Warsaw
BEGIN:VEVENT
UID:47370@night4u.pl
DTSTART;TZID=Europe/Warsaw:20200305T203000
DTEND;TZID=Europe/Warsaw:20200305T223000
DTSTAMP:20200331T141440Z
URL:https://night4u.pl/wydarzenia/happy-womens-day-boylesque-night-show/
SUMMARY:Sold Out! Happy Women's Day! Boylesque Night Show!
DESCRIPTION:Każde nasze show jest wyjątkowe – a to jeszcze bardziej! Na
  scenie trzech performerów i jedna performerka. Odwracamy standardowy uk
 ład występów z myślą o Paniach i zbliżającym się święcie. \n\nWy
 stąpi przed Wami trójka artystów\, dla których boyleska to nie wszystk
 o: nasz oswojony demon Vincent Grotesque\, aktor i performer\, śmieszy i 
 zaskakuje\, dosłownie ogień na scenie\, Gąsiu – o kształtach greckie
 go herosa\, artysta wszechstronny\, zawsze budzi silne emocje i Kim Lee 
 – łączący boyleskowy i dragowy temperament w jedną niepowtarzalną c
 ałość\, komiczną i barokową zarazem. \nTowarzyszyć im będzie Maggie
  Rabbit\, operowa diva z wrodzoną vis comica oraz w roli Stage Menadżerk
 i temperamentna Carmen del Fuego.\n\nShow poprowadzi Anushka Wojtecka\, kt
 óra nikt w Polsce potrafi połączyć w konferansjerce kabaret i burlesk
 ę. \n\nGwarantujemy śmiech\, mnóstwo radości\, relaks w klimatycznym W
 orku\, największym polskim domu burleski\, gdzie barmani i kelnerzy w lot
  zgadują Wasze koktajlowe życzenia - nie wstawajcie od stolików\, będ
 ą na każde Wasze zawołanie. Bawimy Was od ponad dwóch lat w każdy czw
 artek\, show jest co tydzień i co tydzień inne\, niepowtarzalne!\n\nZabi
 erajcie przyjaciół\, ukochanego\, ukochaną i spędźcie z nami ten wiec
 zór. \nDress code: zalecamy strój wieczorowy\, poczujcie się wyjątkowo
 \, bosko! ale wciąż komfortowo!\n\nNasze show przyciągają gości z ca
 łej Polski i nie tylko z Polski\, wydarzenia jedyne w swoim rodzaju\, na 
 granicy burleski i kabaretu. Musicie to zobaczyć!\nZapraszamy!\n\n-------
 -------------------------------\nCocktail Bar Worek Kości\, lokal dla Go
 ści 18+	\nul. Bagatela 10\, Warszawa\nOtwarcie drzwi godz. 18.30\nStart S
 how godz. 20.30\nTylko dla osób pełnoletnich.\nZdobądź bilety* 60 zł:
 \nhttps://goout.net/pl/bilety/happy-womens-day-boylesque-night-show/moeg/\
 n*Impreza biletowana. Bilet gwarantuje miejsce przy stoliku.  \n\nŻeby je
 dnak mieć pewność dobrego miejsca\, osobom z zakupionymi już biletami\
 , polecamy dodatkową opcję rezerwacji miejsca VIP (najlepsze 15 miejsc w
  lokalu) – rezerwacje przyjmujemy przez Messenger Worka Kości oraz tele
 fonicznie 783 666 868 (telefon czynny w godzinach pracy klubu).\nIlość m
 iejsc do rezerwacji ograniczona. \n\nBardzo prosimy o nienagrywanie cało
 ści eventu z uwagi na ochronę praw autorskich Twórców. \nProsimy o wza
 jemny szacunek.
ATTACH;FMTTYPE=image/jpeg:https://night4u.pl/wp-content/uploads/2020/02/15
 8229_image_86192772_2744160952331089_8528086358562963456_o.jpg
CATEGORIES:mazowieckie
LOCATION:Worek Kości\, ul. Bagatela 10\, Warsaw\, 00-585\, Poland
GEO:52.213769;21.023019
X-APPLE-STRUCTURED-LOCATION;VALUE=URI;X-ADDRESS=ul. Bagatela 10\, Warsaw\, 
 00-585\, Poland;X-APPLE-RADIUS=100;X-TITLE=Worek Kości:geo:52.213769,21.0
 23019
END:VEVENT
BEGIN:VTIMEZONE
TZID:Europe/Warsaw
X-LIC-LOCATION:Europe/Warsaw
BEGIN:STANDARD
DTSTART:20191027T020000
TZOFFSETFROM:+0200
TZOFFSETTO:+0100
TZNAME:CET
END:STANDARD
END:VTIMEZONE
END:VCALENDAR