BEGIN:VCALENDAR
VERSION:2.0
PRODID:-//wp-events-plugin.com//7.2.3.1//EN
TZID:Europe/Warsaw
X-WR-TIMEZONE:Europe/Warsaw
BEGIN:VEVENT
UID:50181@night4u.pl
DTSTART;TZID=Europe/Warsaw:20200501T070000
DTEND;TZID=Europe/Warsaw:20200503T220000
DTSTAMP:20200405T143323Z
URL:https://night4u.pl/wydarzenia/harcerze-na-grg-i-3-majowce-2020-we-wroc
 lawiu/
SUMMARY:Harcerze na GRG i 3-Majówce 2020 we Wrocławiu!
DESCRIPTION:Druhny i Druhowie!\nPo raz kolejny zapraszamy Was do udziału w
  biciu Gitarowego Rekordu Guinnessa i festiwalu 3-Majówka we Wrocławiu!\
 n\n3-Majówka 2020 odbędzie się w dniach 1- 3 maja 2020 na terenie Rynku
  oraz  Pergoli przy Hali Stulecia we Wrocławiu.  \n\nWpisujcie ten termin
  w plany pracy i spotkajmy się we Wrocławiu!\n\n***\n\n3-Majówka we Wro
 cławiu jest festiwalem\, na którym harcerze są szczególnie mile widzia
 ni! Jeżeli chcecie zorganizować fajny biwak drużyny\, sprawdzić się p
 odczas służby na imprezie masowej czy nabyć doświadczenia jako ratowni
 k - tutaj będziecie mieli okazję!\n\nOd niedawna impreza połączona jes
 t z Gitarowym Rekordem Guinnessa odbywającym się tradycyjnie 1 maja we W
 rocławiu\, możecie więc spodziewać się również gigantów gitarowego
  grania w programie 3-Majówki 2020. Przypominamy\, że rok temu na wrocł
 awskim Rynku zagrało razem 7423 gitarzystów\, a tym roku liczymy na wię
 cej! Czekamy również na Was z gitarami :)\n\nCzego możecie się spodzie
 wać:\n- wsparcia w znalezieniu noclegów \n- kawy\, herbaty\, wrzątku po
 dczas służby\n- wstępu na koncerty w dniu pełnienia służby\n- pamią
 tek od Organizatorów Festiwalu \;)\n\nMożecie się realizować na kilku 
 polach służby\, szczegółowy przydział będzie ustalany bliżej termin
 u imprezy\, ponieważ zależy od liczby zgłoszeń.\n\nZgłoszenia i dodat
 kowe informacje znajdziecie w formularzu. W razie pytań zapraszamy do kon
 taktu w komentarzach oraz poprzez maila: wolo.wrockfest@gmail.com \n\nDo z
 obaczenia! :)\n\n*********************************************************
 ********************\n\nLINK DO FORMULARZA ZGŁOSZENIOWEGO:\nhttps://forms
 .gle/X33deMFVJ6rNVRjU8\n\n************************************************
 *****************************\n\nLink do wydarzenia Gitarowy Rekord Guinne
 ssa:\nhttps://www.facebook.com/events/333404514149711/\n\n****************
 *************************************************************\n\nLink do w
 ydarzenia 3-Majówka: \nhttps://www.facebook.com/events/1321309854714098/
ATTACH;FMTTYPE=image/jpeg:https://night4u.pl/wp-content/uploads/2020/03/17
 5479_image_88346886_3147320171947110_7767973118215192576_n.png
CATEGORIES:dolnośląskie
LOCATION:Hala Stulecia we Wrocławiu\, Wroclaw\, Poland
GEO:51.106887;17.07744
X-APPLE-STRUCTURED-LOCATION;VALUE=URI;X-ADDRESS=Wroclaw\, Poland;X-APPLE-RA
 DIUS=100;X-TITLE=Hala Stulecia we Wrocławiu:geo:51.106887,17.07744
END:VEVENT
BEGIN:VTIMEZONE
TZID:Europe/Warsaw
X-LIC-LOCATION:Europe/Warsaw
BEGIN:DAYLIGHT
DTSTART:20200329T030000
TZOFFSETFROM:+0100
TZOFFSETTO:+0200
TZNAME:CEST
END:DAYLIGHT
END:VTIMEZONE
END:VCALENDAR