BEGIN:VCALENDAR
VERSION:2.0
PRODID:-//wp-events-plugin.com//7.2.3.1//EN
TZID:Europe/Warsaw
X-WR-TIMEZONE:Europe/Warsaw
BEGIN:VEVENT
UID:46526@night4u.pl
DTSTART;TZID=Europe/Warsaw:20200328T220000
DTEND;TZID=Europe/Warsaw:20200329T040000
DTSTAMP:20200323T054904Z
URL:https://night4u.pl/wydarzenia/hard-society-21-b-art-b-day-party/
SUMMARY:Hard Society 21 B-Art B-Day Party
DESCRIPTION:Hardstyle &amp\; Hardcore - Szczecin\nMore info soon!
ATTACH;FMTTYPE=image/jpeg:https://night4u.pl/wp-content/uploads/2020/02/15
 2578_image_84098052_612991842602388_3233850803244498944_o.jpg
CATEGORIES:zachodniopomorskie
LOCATION:Klub Studencki Pralnia\, Bohaterów Warszawy 75\, Szczecin\, 71-07
 0\, Poland
GEO:53.41969;14.53118
X-APPLE-STRUCTURED-LOCATION;VALUE=URI;X-ADDRESS=Bohaterów Warszawy 75\, Sz
 czecin\, 71-070\, Poland;X-APPLE-RADIUS=100;X-TITLE=Klub Studencki Pralnia
 :geo:53.41969,14.53118
END:VEVENT
BEGIN:VTIMEZONE
TZID:Europe/Warsaw
X-LIC-LOCATION:Europe/Warsaw
BEGIN:STANDARD
DTSTART:20191027T020000
TZOFFSETFROM:+0200
TZOFFSETTO:+0100
TZNAME:CET
END:STANDARD
BEGIN:DAYLIGHT
DTSTART:20200329T030000
TZOFFSETFROM:+0100
TZOFFSETTO:+0200
TZNAME:CEST
END:DAYLIGHT
END:VTIMEZONE
END:VCALENDAR