BEGIN:VCALENDAR
VERSION:2.0
PRODID:-//wp-events-plugin.com//7.2.3.1//EN
TZID:Europe/Warsaw
X-WR-TIMEZONE:Europe/Warsaw
BEGIN:VEVENT
UID:14513@night4u.pl
DTSTART;TZID=Europe/Warsaw:20190517T210000
DTEND;TZID=Europe/Warsaw:20190518T040000
DTSTAMP:20190430T144420Z
URL:https://night4u.pl/wydarzenia/hard-society-family-friends/
SUMMARY:Hard Society - Family & Friends
DESCRIPTION:Hardstyle & Hardcore Szczecin\n\nPrezentujemy pierwszą taka mi
 ni edycję Hard Society \;)\nZamierzamy uczcić urodziny członka naszej c
 iężkiej społecznośći\, Marcina!\n\nMore info soon!
ATTACH;FMTTYPE=image/jpeg:https://night4u.pl/wp-content/uploads/2019/04/36
 107_image_58755194_2276607655936366_1744237410620801024_o.jpg
CATEGORIES:zachodniopomorskie
END:VEVENT
BEGIN:VTIMEZONE
TZID:Europe/Warsaw
X-LIC-LOCATION:Europe/Warsaw
BEGIN:DAYLIGHT
DTSTART:20190331T030000
TZOFFSETFROM:+0100
TZOFFSETTO:+0200
TZNAME:CEST
END:DAYLIGHT
END:VTIMEZONE
END:VCALENDAR