BEGIN:VCALENDAR
VERSION:2.0
PRODID:-//wp-events-plugin.com//7.2.3.1//EN
TZID:Europe/Warsaw
X-WR-TIMEZONE:Europe/Warsaw
BEGIN:VEVENT
UID:31963@night4u.pl
DTSTART;TZID=Europe/Warsaw:20191213T220000
DTEND;TZID=Europe/Warsaw:20191214T060000
DTSTAMP:20191014T025359Z
URL:https://night4u.pl/wydarzenia/hardwagon-zjazd-alternatywek-2/
SUMMARY:Hardwagon: Zjazd Alternatywek
DESCRIPTION:Hardwagon - cykl prezentujący najciekawszych hard producentów
  z krajowej sceny.\n\n❌ Batashi\nsoundcloud.com/batashi\n❌ EARGASM GOD
 \nsoundcloud.com/eargasmgod\n❌ MADD\nsoundcloud.com/hard_madd\n❌ ❓
 ❓❓\n❌ ❓❓❓\n❌ ❓❓❓\n❌ ❓❓❓\n\nPatronat:\nCore'owe
  Ogłoszenia Parafialne\nSzybkie Rzeczy\nCiężka Jazda\n\n+18
ATTACH;FMTTYPE=image/jpeg:https://night4u.pl/wp-content/uploads/2019/10/75
 479_image_72657268_135748357778080_876645727541919744_o.jpg
CATEGORIES:małopolskie
LOCATION:Szpitalna 1\, Szpitalna 1\, Kraków\, 31-041\, Poland
GEO:50.06186;19.94065
X-APPLE-STRUCTURED-LOCATION;VALUE=URI;X-ADDRESS=Szpitalna 1\, Kraków\, 31-
 041\, Poland;X-APPLE-RADIUS=100;X-TITLE=Szpitalna 1:geo:50.06186,19.94065
END:VEVENT
BEGIN:VTIMEZONE
TZID:Europe/Warsaw
X-LIC-LOCATION:Europe/Warsaw
BEGIN:STANDARD
DTSTART:20191027T020000
TZOFFSETFROM:+0200
TZOFFSETTO:+0100
TZNAME:CET
END:STANDARD
END:VTIMEZONE
END:VCALENDAR