BEGIN:VCALENDAR
VERSION:2.0
PRODID:-//wp-events-plugin.com//7.2.3.1//EN
TZID:Europe/Warsaw
X-WR-TIMEZONE:Europe/Warsaw
BEGIN:VEVENT
UID:34704@night4u.pl
DTSTART;TZID=Europe/Warsaw:20191105T200000
DTEND;TZID=Europe/Warsaw:20191105T233000
DTSTAMP:20191103T064057Z
URL:https://night4u.pl/wydarzenia/harenda-blues-session-akustycznie-6/
SUMMARY:Harenda Blues Session akustycznie
DESCRIPTION:Serdecznie zapraszam wszystkich zainteresowanych muzyką nie ty
 lko bluesową na cykliczną imprezę z 11 letnią tradycją.\nJak w każdy
  wtorek czołowi warszawscy muzycy pojawią się na scenie Piwnicy Pod Har
 endą. Tym razem będziemy grać akustycznie\, nieco bardziej etnicznie i 
 jazzowo.\nZapraszamy tylko doświadczonych/zawodowych muzyków i wymagają
 cą publiczność! :)\n\nWstęp to symboliczne 5zł (dla muzyków gratis).
 \n\nProwadzenie: Bartosz Łęczycki www.bleczycki.com\n\nDo zobaczenia!!!
ATTACH;FMTTYPE=image/jpeg:https://night4u.pl/wp-content/uploads/2019/11/90
 399_image_74442958_2616717788348917_2101621901313966080_n.jpg
CATEGORIES:mazowieckie
LOCATION:Klub Harenda\, Krakowskie Przedmieście 4\, Srodmiescie\, 00-325\,
  Poland
GEO:52.238783;21.018876
X-APPLE-STRUCTURED-LOCATION;VALUE=URI;X-ADDRESS=Krakowskie Przedmieście 4\
 , Srodmiescie\, 00-325\, Poland;X-APPLE-RADIUS=100;X-TITLE=Klub Harenda:ge
 o:52.238783,21.018876
END:VEVENT
BEGIN:VTIMEZONE
TZID:Europe/Warsaw
X-LIC-LOCATION:Europe/Warsaw
BEGIN:STANDARD
DTSTART:20191027T020000
TZOFFSETFROM:+0200
TZOFFSETTO:+0100
TZNAME:CET
END:STANDARD
END:VTIMEZONE
END:VCALENDAR