BEGIN:VCALENDAR
VERSION:2.0
PRODID:-//wp-events-plugin.com//7.2.3.1//EN
TZID:Europe/Warsaw
X-WR-TIMEZONE:Europe/Warsaw
BEGIN:VEVENT
UID:26533@night4u.pl
DTSTART;TZID=Europe/Warsaw:20191109T190000
DTEND;TZID=Europe/Warsaw:20191109T223000
DTSTAMP:20191109T221019Z
URL:https://night4u.pl/wydarzenia/hateful-five-deltha-eraserhead/
SUMMARY:Guilty Pleasure Tour: Deltha/Hateful Five/Eraserhead
DESCRIPTION:Metalowa uczta dla wszystkich maniaków spragnionych porządneg
 o łomotu\, a wszystko to pod banderą Guilty Pleasure Tour! Jest to seria
  koncertów promująca pierwszy oficjalny LP zespołu Hateful Five "Winny"
 ! Deska na desce w klubie nie zostanie!\n\nCzasówka:\n19:00 otwarcie\n19.
 15 Deltha\n20.15 Hateful Five\n21.15 Eraserhead\n\nNa jednej scenie spotka
 ją się:\nDELTHA (heavy metal\, Lublin)\nDELTHA  to lubelski zespół\, t
 worzony przez grupę ludzi w różnym wieku\, o kompletnie różnych pogl
 ądach i muzycznych  upodobaniach\, których wypadowa tej wybuchowej miesz
 anki\, stanowi energetyczne\,  heavymetalowe brzmienia rodem ze złotych l
 at 80tych. \nMimo inspiracji czerpanych od takich nieśmiertelnych legend 
 jak  Iron Maiden i Judas Priest\, w naszych dźwiękach nie brak własnego
 \,  charakterystycznego pierwiastka podkreślonego nasyconym brzmieniem gi
 tary\, skomplikowanymi\, perkusyjnymi przejściami\, głębią basu i char
 akterystycznym\, damskim wokalem. \nwww.facebook.com/deltha4\n\nHateful Fi
 ve (thrash metal\, Warszawa)\nPięciu nienawistnych\, każdy z innej bajki
  - tak w jednym zdaniu można podsumować tę iście kinową obsadę. Wypa
 dkowa grania zespołu to splot różnych inspiracji: zaczynając od melody
 jnego heavy metalu\, przez punkowy wrzask aż po brutalnie szybki thrash m
 etal. Ekipa niedawno wydała też swój pierwszy teledysk do utworu "Jutro
 " promujący debiutancki album "Winny". Porządna dawka thrashowego grania
 .\nhttps://www.facebook.com/hatefive/\nwww.hatefulfive.pl\nwww.facebook.co
 m/hatefive\nwww.youtube.com/hatefulfive\n\nEraserheaD (thrash metal\, Lubl
 in)\nJesteśmy zespołem z Lublina\, założonym w Lipcu 2017 roku. Gramy 
 mieszankę hard rocka\, heavy metalu\, stonera\, thrash metalu z elementam
 i punk rocka.\nhttps://www.facebook.com/EraserheaD-215153462584897/\n\nWja
 zd \nPrzedsprzedaż: 15 PLN \nBramka: 20 PLN\nBilety w przedsprzedaży do 
 nabycia https://goout.net/pl/bilety/guilty-pleasure-tour-deltha+hateful-fi
 ve+eraserhead/oogf/\n\nPatronaci medialni:\nRocKamila 🤘🏻 Wiara Rocka
  Metal Music Attack Black Widow Radio Szarpidrut PL MetalRuleZ Strefa Musi
 c Art. Metal Duma Productions Rock Kompas MetalSide Rockowa Warszawa
ATTACH;FMTTYPE=image/jpeg:https://night4u.pl/wp-content/uploads/2019/10/61
 980_image_74174096_702244750181173_1209412213018722304_o.jpg
CATEGORIES:lubelskie
LOCATION:Rock Pub Ramzes\, ul. H. Kołłątaja 3\, Lublin\, 20-006\, Poland
GEO:51.247324;22.557731
X-APPLE-STRUCTURED-LOCATION;VALUE=URI;X-ADDRESS=ul. H. Kołłątaja 3\, Lub
 lin\, 20-006\, Poland;X-APPLE-RADIUS=100;X-TITLE=Rock Pub Ramzes:geo:51.24
 7324,22.557731
END:VEVENT
BEGIN:VTIMEZONE
TZID:Europe/Warsaw
X-LIC-LOCATION:Europe/Warsaw
BEGIN:STANDARD
DTSTART:20191027T020000
TZOFFSETFROM:+0200
TZOFFSETTO:+0100
TZNAME:CET
END:STANDARD
END:VTIMEZONE
END:VCALENDAR