BEGIN:VCALENDAR
VERSION:2.0
PRODID:-//wp-events-plugin.com//7.2.3.1//EN
TZID:Europe/Warsaw
X-WR-TIMEZONE:Europe/Warsaw
BEGIN:VEVENT
UID:33614@night4u.pl
DTSTART;TZID=Europe/Warsaw:20191102T210000
DTEND;TZID=Europe/Warsaw:20191103T060000
DTSTAMP:20191027T012018Z
URL:https://night4u.pl/wydarzenia/havana-oh-na-na-02-11-do-2200-wejscie-fr
 ee/
SUMMARY:Havana Oh Na Na // 02.11 // Do 22:00 wejście free
DESCRIPTION:Jeżeli uwielbiacie Kubański klimat\, mohito i latynoskie brzm
 ienia\, El Cubano Lublin stanie się Waszym drugim domem. Tego wieczoru na
 si rezydenci sprawią\, że poczujecie się jak na gorących Karaibach! \n
 \nTo coś więcej niż dobra zabawa przy gorących rytmach! Poczuj klimat 
 prawdziwego lata\, rozkołysanych bioder i gorących nocy ♥\n\n---------
 ---------------------------------------\n⭐️ SOBOTA ⭐️\n\n➡️Sta
 rt 21:00\n➡️Do 22:00 - wejście free\n➡️22:00-23:00 - 10zł\n➡
 ️Po 23:00 - 15zł\n\nBilet wstępu obowiązuje do lokali:\nHelium Club\n
 Rzut Beretem\nEl Cubano\nRIVIERA\n\nseats &amp\; tables/ rezerwacje stolik
 ów\n☎️: 725700205 (wt-sob. 17:00-20:00)\nWejście 18+ / DOOR SELECTIO
 N
ATTACH;FMTTYPE=image/jpeg:https://night4u.pl/wp-content/uploads/2019/10/84
 595_image_76267790_2549307861812292_3156266277786353664_o.jpg
CATEGORIES:lubelskie
LOCATION:El Cubano Lublin\, Hempla 5\, Lublin\, 20-077\, Poland
GEO:51.245544;22.558043
X-APPLE-STRUCTURED-LOCATION;VALUE=URI;X-ADDRESS=Hempla 5\, Lublin\, 20-077\
 , Poland;X-APPLE-RADIUS=100;X-TITLE=El Cubano Lublin:geo:51.245544,22.5580
 43
END:VEVENT
BEGIN:VTIMEZONE
TZID:Europe/Warsaw
X-LIC-LOCATION:Europe/Warsaw
BEGIN:STANDARD
DTSTART:20191027T020000
TZOFFSETFROM:+0200
TZOFFSETTO:+0100
TZNAME:CET
END:STANDARD
END:VTIMEZONE
END:VCALENDAR