BEGIN:VCALENDAR
VERSION:2.0
PRODID:-//wp-events-plugin.com//7.2.3.1//EN
TZID:Europe/Warsaw
X-WR-TIMEZONE:Europe/Warsaw
BEGIN:VEVENT
UID:2544@night4u.pl
DTSTART;TZID=Europe/Warsaw:20190105T220000
DTEND;TZID=Europe/Warsaw:20190106T050000
DTSTAMP:20190206T194211Z
URL:https://night4u.pl/wydarzenia/hear-the-colours-at-obiekt/
SUMMARY:Hear The Colours at Obiekt
DESCRIPTION:Z Nowym Rokiem\, nowym house-owym krokiem!\nBardzo cieszymy si
 ę na myśl\, że wracamy do fajnych imprez granych pod szyldem Hear The C
 olours. Mnóstwo ciekawych artystów\, setki zagranych numerów i długie 
 godziny przetańczone w przyjemnych house-owych rytmach. \nDo HTC dołącz
 y Jan Miller\, świeża krew i artysta z pełną torbą ciekawych vinyli\n
 Powrót Hear The Colours w 2019 zapowiada się soczyście!\n\n-Id Ensemble
  (Otake\, Connaiseur Rec)\n\nhttps://www.facebook.com/idensemble/\n\n-Kris
  Mandrak (HTC\, Obiekt)\nhttps://www.facebook.com/Hear-The-Colours-1033460
 66417911/\n\n-Jan Miller (Obiekt)\nhttps://www.facebook.com/jan.miller.z.g
 \n\nWstep: 10pln\,\nLista FB: 5pln\n\nSobota 5.01.2019 \nStart 22:00
ATTACH;FMTTYPE=image/jpeg:https://night4u.pl/wp-content/uploads/2019/01/91
 81_image_49726461_1970552659697233_2904986853901860864_n.jpg
CATEGORIES:lubuskie
LOCATION:O B I E K T\, Kazimierza Wielkiego 21\, Zielona Góra\, 65-001\, P
 oland
GEO:51.944503;15.513146
X-APPLE-STRUCTURED-LOCATION;VALUE=URI;X-ADDRESS=Kazimierza Wielkiego 21\, Z
 ielona Góra\, 65-001\, Poland;X-APPLE-RADIUS=100;X-TITLE=O B I E K T:geo:
 51.944503,15.513146
END:VEVENT
BEGIN:VTIMEZONE
TZID:Europe/Warsaw
X-LIC-LOCATION:Europe/Warsaw
BEGIN:STANDARD
DTSTART:20181028T020000
TZOFFSETFROM:+0200
TZOFFSETTO:+0100
TZNAME:CET
END:STANDARD
END:VTIMEZONE
END:VCALENDAR