BEGIN:VCALENDAR
VERSION:2.0
PRODID:-//wp-events-plugin.com//7.2.3.1//EN
TZID:Europe/Warsaw
X-WR-TIMEZONE:Europe/Warsaw
BEGIN:VEVENT
UID:6398@night4u.pl
DTSTART;TZID=Europe/Warsaw:20190208T210000
DTEND;TZID=Europe/Warsaw:20190209T050000
DTSTAMP:20190204T004223Z
URL:https://night4u.pl/wydarzenia/hej-dziewczyno-spojrz-na-misia-2/
SUMMARY:Hej Dziewczyno\, spójrz na Misia
DESCRIPTION:Dziewczyny\, czas na przytulańce! :D\n\nZimno za oknem warto z
 naleźć misia do którego miło będzie się tulić...a nie ma lepszej ok
 azji do przytulania niż nasze imprezy z polską muzyką! \n\nDla zwiększ
 enia Waszej odwagi przygotowaliśmy świetne promki na barze!\n\nZabierajc
 ie swoich znajomych bierzcie udział w wydarzeniu\, wejście z listy FB pr
 zez całą noc będzie za darmo!\n\nGrać nam będzie polska muzyka. Hity 
 starsze i młodsze\, marudzić nie będziecie. Byliście u nas nie raz\, w
 iecie\, że będzie dobrze! :D\nZa konsolą stanie DJ OLI!\n\nGotowe na zn
 alezienie swojego pluszaka? :D\n__________________________________________
 ______\n\nStart 21:00\nKlub zastrzega sobie prawo do selekcji gości +18.\
 n________________________________________________\n\nPromki na barze:\nKam
 ikaze 10\,-\nWhisky + Soft 10\,-\nCuba libre 10\,-\n______________________
 __________________________\n\nLista FB całą noc FREE\nPozostali 10zł\n\
 nKliknij "wezmę udział" bo "zainteresowaną/ym" to można być co najwy
 żej kolejną kolejką przy barze.\n______________________________________
 \n\nZnajdź nas również na:\nSnapchat: silence_club || Instagram: @silen
 ceclub\n\n8 lutego 2019 (Piątek)\nSilenceClub\nRadziszewskiego 8\nLublin
ATTACH;FMTTYPE=image/jpeg:https://night4u.pl/wp-content/uploads/2019/02/18
 903_image_51328945_2725039037521088_3078077763962273792_o.jpg
CATEGORIES:lubelskie
LOCATION:SilenceClub\, Radziszewskiego 8\, Lublin\, 20-031\, Poland
GEO:51.246457;22.543797
X-APPLE-STRUCTURED-LOCATION;VALUE=URI;X-ADDRESS=Radziszewskiego 8\, Lublin\
 , 20-031\, Poland;X-APPLE-RADIUS=100;X-TITLE=SilenceClub:geo:51.246457,22.
 543797
END:VEVENT
BEGIN:VTIMEZONE
TZID:Europe/Warsaw
X-LIC-LOCATION:Europe/Warsaw
BEGIN:STANDARD
DTSTART:20181028T020000
TZOFFSETFROM:+0200
TZOFFSETTO:+0100
TZNAME:CET
END:STANDARD
END:VTIMEZONE
END:VCALENDAR