BEGIN:VCALENDAR
VERSION:2.0
PRODID:-//wp-events-plugin.com//7.2.3.1//EN
TZID:Europe/Warsaw
X-WR-TIMEZONE:Europe/Warsaw
BEGIN:VEVENT
UID:26272@night4u.pl
DTSTART;TZID=Europe/Warsaw:20191012T210000
DTEND;TZID=Europe/Warsaw:20191013T020000
DTSTAMP:20191015T103755Z
URL:https://night4u.pl/wydarzenia/hemp-gru-xx-eter-rzeszow/
SUMMARY:HEMP GRU XX Eter / Rzeszów
DESCRIPTION:Witajcie!\n\nZapraszamy Was serdecznie na koncert ekipy\, któr
 ej nie trzeba nikomu przedstawiać. Ich utwory nadawały kształt kulturze
  Hip-Hop w Polsce\, a ich teksty zna 100% polskich podwórek. Są tu od sa
 mego początku aż do teraz. Od Klucza po Eter\, Bilon\, Wilku\, Żary i S
 zwed\, Diilgang\, Hemp Gru! \n\nPrzed koncertem zapraszamy na spotkanie z 
 Hemp Gru w Selectshop https://www.facebook.com/events/3643640492328253/\n\
 nNie może Cię zabraknąć na tym koncercie. Jedno z ważniejszych wydarz
 eń w Twoim mieście. \nZespół promuje swój najnowszy krążek ETER\, a
 le w tym roku wypada także XV-lecie płyty KLUCZ\, więc na pewno usłysz
 ymy parę sztosów z tego albumu. Nie powinno zabraknąć gości specjalny
 ch na scenie!\n\nKilka pewniaków koncertowych:\n- Cudowny Dzieciak - http
 s://youtu.be/TqCjlRYDjkE\n- Droga - https://youtu.be/oqzTignky58\n- Amnezj
 a - https://youtu.be/4nb3JdFAiMQ\n- Diil Gang - https://youtu.be/ipBd7eaO1
 Qw\n- Mary Mary - https://youtu.be/YnAMv75JfYs\n- Eter - https://youtu.be/
 OSseADsU5SQ\n\nImprezę poprowadzi Dj Cent\, członek legendarnego składu
  PCP\, więc możecie być pewni hiphopowej selekcji przed i po koncercie.
  \n\nPrzed Hemp Gru zagra\n- Edk \n- cała ekipa NSH Rzeszów\n- Arab\n- H
 ace\n\nBierzcie bilety\, aparaty\, płyty i markery\, dołączajcie do wyd
 arzenia  bo będą fanty do wyjęcia i widzimy się na koncercie 👊\n\nE
 vent wchodzi w skład trasy Hemp Gru:\n\n27.09 Częstochowa - https://www.
 facebook.com/events/2352705345046030/\n11.10 Tychy - https://www.facebook.
 com/events/459235558260309/\n12.10 Rzeszów - https://www.facebook.com/eve
 nts/453095161909086/\n18.10 Lublin - https://www.facebook.com/events/22462
 9388413868/\n19.10 Ostrołęka Charytatywnie https://www.facebook.com/even
 ts/2339697469604872/\n19.10 Białystok - https://www.facebook.com/events/1
 164239783783454/\n25.10 Zielona Góra - https://www.facebook.com/events/47
 2376696924766/\n26.10 Wrocław - https://www.facebook.com/events/674420613
 072094/\n??:?? Warszawa - \n_____________________________\n\nMiejsce\, dat
 a i czas: \n12.10.2019\nKlub Vinyl\, Rzeszów\nOtwarcie Drzwi 21:00\n\nBil
 ety:\n- I PULA WYPRZEDANA\n- II PULA: \nOnline - https://going.pl/hemp-gru
 -rzeszow\nStacjonarnie - wszystkie salony Empik\n\nWsparcie:\n- DIIL \n- H
 empszop.pl\n- Going.\n- rapnews.pl
ATTACH;FMTTYPE=image/jpeg:https://night4u.pl/wp-content/uploads/2019/10/61
 380_image_71285899_1708775655922278_2621082493364731904_n.jpg
CATEGORIES:podkarpackie
LOCATION:Klub Vinyl\, Fredry 4\, Rzeszów\, 35-005\, Poland
GEO:50.03998;22.00741
X-APPLE-STRUCTURED-LOCATION;VALUE=URI;X-ADDRESS=Fredry 4\, Rzeszów\, 35-00
 5\, Poland;X-APPLE-RADIUS=100;X-TITLE=Klub Vinyl:geo:50.03998,22.00741
END:VEVENT
BEGIN:VTIMEZONE
TZID:Europe/Warsaw
X-LIC-LOCATION:Europe/Warsaw
BEGIN:DAYLIGHT
DTSTART:20190331T030000
TZOFFSETFROM:+0100
TZOFFSETTO:+0200
TZNAME:CEST
END:DAYLIGHT
END:VTIMEZONE
END:VCALENDAR