BEGIN:VCALENDAR
VERSION:2.0
PRODID:-//wp-events-plugin.com//7.2.3.1//EN
TZID:Europe/Warsaw
X-WR-TIMEZONE:Europe/Warsaw
BEGIN:VEVENT
UID:27303@night4u.pl
DTSTART;TZID=Europe/Warsaw:20200307T200000
DTEND;TZID=Europe/Warsaw:20200308T010000
DTSTAMP:20200331T140449Z
URL:https://night4u.pl/wydarzenia/hemp-gru-xx-eter-wroclaw/
SUMMARY:HEMP GRU XX Eter / Wrocław
DESCRIPTION:Witajcie!\n\nZapraszamy Was serdecznie na koncert ekipy\, któr
 ej nie trzeba nikomu przedstawiać. Ich utwory nadawały kształt kulturze
  Hip-Hop w Polsce\, a ich teksty zna 100% polskich podwórek. Są tu od sa
 mego początku aż do teraz. Od Klucza po Eter\, Bilon\, Wilku\, Żary i S
 zwed\, Diilgang\, Hemp Gru! \n\nNie może Cię zabraknąć na tym koncerci
 e. Jedno z ważniejszych wydarzeń w Twoim mieście. \nZespół promuje sw
 ój najnowszy krążek ETER\, ale w tym roku wypada także XV-lecie płyty
  KLUCZ\, więc na pewno usłyszymy parę sztosów z tego albumu. Nie powin
 no zabraknąć gości specjalnych na scenie\, ale o tym niebawem.. \n\nKil
 ka pewniaków koncertowych:\n- Cudowny Dzieciak - https://youtu.be/TqCjlRY
 DjkE\n- Droga - https://youtu.be/oqzTignky58\n- Amnezja - https://youtu.be
 /4nb3JdFAiMQ\n- Diil Gang - https://youtu.be/ipBd7eaO1Qw\n- Mary Mary - ht
 tps://youtu.be/YnAMv75JfYs\n- Eter - https://youtu.be/OSseADsU5SQ\n\nImpre
 zę poprowadzi Dj Cent\, członek legendarnego składu PCP\, więc możeci
 e być pewni hiphopowej selekcji przed i po koncercie. \n\nBierzcie bilety
 \, aparaty\, płyty i markery\, dołączajcie do wydarzenia  bo będą fan
 ty do wyjęcia i widzimy się na koncercie !\n\nJako support zagrają:\n- 
 Czaku\n- Kamrat KMZ\n- HACE \n \n_____________________________\n\nMiejsce\
 , data i czas: \n07.03.2020\nKlub Akademia\, Wrocław\nOtwarcie drzwi 21:0
 0\n\nBilety:\nPrzedsprzedaż 40PLN\nOnline - https://going.pl/hemp-gru-wro
 claw\nStacjonarnie - wszystkie salony Empik\nNa bramce w dniu koncertu 50P
 LN.\n\nWsparcie:\n- DIIL \n- Hempszop.pl\n- Going.\n- rapnews.pl
ATTACH;FMTTYPE=image/jpeg:https://night4u.pl/wp-content/uploads/2020/02/63
 545_image_87660726_1877936059006236_5531286607249801216_o.jpg
CATEGORIES:dolnośląskie
LOCATION:Akademia\, Grunwaldzka 67\, Wroclaw\, 50-357\, Poland
GEO:51.11448;17.06641
X-APPLE-STRUCTURED-LOCATION;VALUE=URI;X-ADDRESS=Grunwaldzka 67\, Wroclaw\, 
 50-357\, Poland;X-APPLE-RADIUS=100;X-TITLE=Akademia:geo:51.11448,17.06641
END:VEVENT
BEGIN:VTIMEZONE
TZID:Europe/Warsaw
X-LIC-LOCATION:Europe/Warsaw
BEGIN:STANDARD
DTSTART:20191027T020000
TZOFFSETFROM:+0200
TZOFFSETTO:+0100
TZNAME:CET
END:STANDARD
END:VTIMEZONE
END:VCALENDAR