BEGIN:VCALENDAR
VERSION:2.0
PRODID:-//wp-events-plugin.com//7.2.3.1//EN
TZID:Europe/Warsaw
X-WR-TIMEZONE:Europe/Warsaw
BEGIN:VEVENT
UID:23904@night4u.pl
DTSTART;TZID=Europe/Warsaw:20190802T200000
DTEND;TZID=Europe/Warsaw:20190802T230000
DTSTAMP:20190802T115300Z
URL:https://night4u.pl/wydarzenia/herba-micze-koncert/
SUMMARY:Herba Micze - koncert
DESCRIPTION:Herba Micze – zespół doświadczonych muzyków z całej Pols
 ki\, grający muzykę Reggae w różnych jej odmianach\, z przewagą Moder
 n Roots\, Roots i Ragga. Zespół powstał w Lublinie w 2008 roku z inicja
 tywy grającego na instrumentach klawiszowych\,\nrodowitego Częstochowian
 ina i miłośnika głębokich dub’owych brzmień - Marcina „cIHego” 
 Wójcika. Skład zespołu wielokrotnie się zmieniał się\, a jego losy b
 yły burzliwe\, co skutkowało m.in. zawieszeniem działalności tuż prze
 d zakończeniem pracy nad debiutanckim albumem. Jednakże świadomość cz
 ynienia czegoś\nwyjątkowego doprowadziła do zatarcia wszelkich animozji
  i zespół w 2018 r. ponownie zaczął działać\, co czyni w następują
 cym składzie.
ATTACH;FMTTYPE=image/jpeg:https://night4u.pl/wp-content/uploads/2019/08/56
 377_image_67389816_1459691497506889_4582096927868321792_o.jpg
CATEGORIES:lubelskie
LOCATION:Most Kultury\, Most Mariana Lutosławskiego\, Lublin\, 20-102\, Po
 land
GEO:51.238676;22.571431
X-APPLE-STRUCTURED-LOCATION;VALUE=URI;X-ADDRESS=Most Mariana Lutosławskieg
 o\, Lublin\, 20-102\, Poland;X-APPLE-RADIUS=100;X-TITLE=Most Kultury:geo:5
 1.238676,22.571431
END:VEVENT
BEGIN:VTIMEZONE
TZID:Europe/Warsaw
X-LIC-LOCATION:Europe/Warsaw
BEGIN:DAYLIGHT
DTSTART:20190331T030000
TZOFFSETFROM:+0100
TZOFFSETTO:+0200
TZNAME:CEST
END:DAYLIGHT
END:VTIMEZONE
END:VCALENDAR