BEGIN:VCALENDAR
VERSION:2.0
PRODID:-//wp-events-plugin.com//7.2.3.1//EN
TZID:Europe/Warsaw
X-WR-TIMEZONE:Europe/Warsaw
BEGIN:VEVENT
UID:29810@night4u.pl
DTSTART;TZID=Europe/Warsaw:20191023T220000
DTEND;TZID=Europe/Warsaw:20191024T040000
DTSTAMP:20191023T091508Z
URL:https://night4u.pl/wydarzenia/hi-5-najlepsza-studencka-sroda-w-miescie
 -sq-klub-20/
SUMMARY:HI 5 - najlepsza studencka środa w mieście! | SQ klub
DESCRIPTION:Lata mijają i nie zmienia się nic!\n\nW każdą środę wszys
 tkie drogi w Poznaniu prowadzą do SQ!\nMyślisz "środa"\, mówisz HI 5 -
  najlepsza środa w mieście!\n\nZOBACZ jak wyglądają najlepsze środy w
  mieście ➡️ http://bit.ly/2BgibJQ\n\nSiódmy rok z rzędu cykl HI 5 u
 dowadnia\, że jest gwarancją imprezowej środy\, a SQ tej nocy najbardzi
 ej rozbujanym adresem w Poznaniu! Najlepsze rapy i r'n'b serwują SimoBisk
 up!\n\nUWAGA! \n☛ z ważną legitymacją studencką do 24:00 wstęp FREE
 !\n☛ dla pierwszych 50 osób welcome drink za free!\n☛ HI 5 drink za j
 edyne 10 zł przez całą noc!\n\n\nMówisz "środa"\, myślisz "HI 5"!\nh
 ttp://www.youtube.com/watch?v=JGAfsQgZ4Dw\n\n\n*****************\n\nKAŻDA
  ŚRODA w SQ klub\n\nRAP/R'N'B\n\nSimo&amp\;Biskup (HI5 / TheRAPy! )\n\nst
 art: 22:00\n\nWstęp: 5 zł do 23:00 / 10 zł po 23:00 \n\n☛ z legitymac
 ją studencką do 24:00 wstęp FREE!\n\n********************\n\nTak zabrzm
 i:\n\nhttps://www.youtube.com/watch?v=xpVfcZ0ZcFM\n\nhttps://www.youtube.c
 om/watch?v=au2n7VVGv_c\n\nhttps://www.youtube.com/watch?v=ZJM4AQSbZDk\n\nh
 ttps://www.youtube.com/watch?v=PEGccV-NOm8\n\nhttps://www.youtube.com/watc
 h?v=fGqdIPer-ms\n\nhttps://www.youtube.com/watch?v=l_lblj8Cq0o\n\nhttps://
 www.youtube.com/watch?v=b8m9zhNAgKs
ATTACH;FMTTYPE=image/jpeg:https://night4u.pl/wp-content/uploads/2019/10/68
 705_image_71639807_2550095398386542_5733262173103194112_o-4.jpg
CATEGORIES:wielkopolskie
LOCATION:SQ klub\, Poznan\, Poland
GEO:52.40174;16.926687
X-APPLE-STRUCTURED-LOCATION;VALUE=URI;X-ADDRESS=Poznan\, Poland;X-APPLE-RAD
 IUS=100;X-TITLE=SQ klub:geo:52.40174,16.926687
END:VEVENT
BEGIN:VTIMEZONE
TZID:Europe/Warsaw
X-LIC-LOCATION:Europe/Warsaw
BEGIN:DAYLIGHT
DTSTART:20190331T030000
TZOFFSETFROM:+0100
TZOFFSETTO:+0200
TZNAME:CEST
END:DAYLIGHT
END:VTIMEZONE
END:VCALENDAR