BEGIN:VCALENDAR
VERSION:2.0
PRODID:-//wp-events-plugin.com//7.2.3.1//EN
TZID:Europe/Warsaw
X-WR-TIMEZONE:Europe/Warsaw
BEGIN:VEVENT
UID:34855@night4u.pl
DTSTART;TZID=Europe/Warsaw:20191120T220000
DTEND;TZID=Europe/Warsaw:20191121T030000
DTSTAMP:20191119T091708Z
URL:https://night4u.pl/wydarzenia/hi-5-najlepsza-studencka-sroda-w-miescie
 -sq-klub-25/
SUMMARY:HI 5 - najlepsza studencka środa w mieście! | SQ klub
DESCRIPTION:W każdą środę wszystkie drogi w Poznaniu prowadzą do SQ!\n
 Myślisz "środa"\, mówisz HI 5 - najlepsza środa w mieście\n\nZOBACZ j
 ak wyglądają najlepsze środy w mieście ➡️ http://bit.ly/2BgibJQ\n\
 nSiódmy rok z rzędu cykl HI 5 udowadnia\, że jest gwarancją imprezowej
  środy\, a SQ tej nocy najbardziej rozbujanym adresem w Poznaniu! Najleps
 ze rapy i r'n'b serwują SimoBiskup!\n\nUWAGA! \n☛ z ważną legitymacj
 ą studencką do 23:30 wstęp FREE!\n☛ dla pierwszych 50 osób welcome d
 rink za free!\n☛ HI 5 drink za jedyne 10 zł przez całą noc!\n\n\nMów
 isz "środa"\, myślisz "HI 5"!\nhttp://www.youtube.com/watch?v=JGAfsQgZ4D
 w\n\n\n*****************\n\nKAŻDA ŚRODA w SQ klub\n\nRAP/R'N'B\n\nSimo&a
 mp\;Biskup (HI5 / TheRAPy! )\n\nstart: 22:00\n\nWstęp: 5 zł do 23:00 / 1
 0 zł po 23:00 \n\n☛ z legitymacją studencką do 23:30 wstęp FREE!\n\n
 ********************\n\nTak zabrzmi:\n\nhttps://www.youtube.com/watch?v=xp
 VfcZ0ZcFM\n\nhttps://www.youtube.com/watch?v=au2n7VVGv_c\n\nhttps://www.yo
 utube.com/watch?v=ZJM4AQSbZDk\n\nhttps://www.youtube.com/watch?v=PEGccV-NO
 m8\n\nhttps://www.youtube.com/watch?v=fGqdIPer-ms\n\nhttps://www.youtube.c
 om/watch?v=l_lblj8Cq0o\n\nhttps://www.youtube.com/watch?v=b8m9zhNAgKs
ATTACH;FMTTYPE=image/jpeg:https://night4u.pl/wp-content/uploads/2019/11/91
 388_image_75282221_2606155062780575_1894569731361341440_o-2.jpg
CATEGORIES:wielkopolskie
LOCATION:SQ klub\, Poznan\, Poland
GEO:52.40174;16.926687
X-APPLE-STRUCTURED-LOCATION;VALUE=URI;X-ADDRESS=Poznan\, Poland;X-APPLE-RAD
 IUS=100;X-TITLE=SQ klub:geo:52.40174,16.926687
END:VEVENT
BEGIN:VTIMEZONE
TZID:Europe/Warsaw
X-LIC-LOCATION:Europe/Warsaw
BEGIN:STANDARD
DTSTART:20191027T020000
TZOFFSETFROM:+0200
TZOFFSETTO:+0100
TZNAME:CET
END:STANDARD
END:VTIMEZONE
END:VCALENDAR