BEGIN:VCALENDAR
VERSION:2.0
PRODID:-//wp-events-plugin.com//7.2.3.1//EN
TZID:Europe/Warsaw
X-WR-TIMEZONE:Europe/Warsaw
BEGIN:VEVENT
UID:10421@night4u.pl
DTSTART;TZID=Europe/Warsaw:20190403T220000
DTEND;TZID=Europe/Warsaw:20190404T040000
DTSTAMP:20190318T195830Z
URL:https://night4u.pl/wydarzenia/hi-5-najlepsza-studencka-sroda-w-miescie
 -sq-klub-7/
SUMMARY:HI 5 - najlepsza studencka środa w mieście! | SQ klub
DESCRIPTION:W każdą środę wszystkie drogi w Poznaniu prowadzą do SQ!\n
 Myślisz "środa"\, mówisz "HI5"!\n\nZOBACZ jak wyglądają najlepsze śr
 ody w mieście ➡️ http://bit.ly/2BgibJQ\n\nSiódmy rok z rzędu cykl H
 I 5 - najlepsza środa w mieście udowadnia\, że jest gwarancją imprezow
 ej środy\, a SQ tej nocy najbardziej rozbujanym adresem w Poznaniu! Najle
 psze rapy i r'n'b serwują SimoBiskup!\n\nUWAGA! \n☛ z ważną legitymac
 ją studencką do 24:00 wstęp FREE!\n☛ dla pierwszych 50 osób welcome 
 drink za free!\n☛ HI 5 drink za jedyne 10 zł przez całą noc!\n\n\nMó
 wisz "środa"\, myślisz "HI 5"!\nhttp://www.youtube.com/watch?v=JGAfsQgZ4
 Dw\n\n\n*****************\n\nKAŻDA ŚRODA w SQ klub\n\nRAP/R'N'B\n\nSimo&
 Biskup (HI5 / TheRAPy! )\n\nstart: 22:00\n\nWstęp: 5 zł do 23:00 / 10 z
 ł po 23:00 \n\n☛ z legitymacją studencką do 24:00 wstęp FREE!\n\n***
 *****************\n\nTak zabrzmi:\n\nhttps://www.youtube.com/watch?v=xpVfc
 Z0ZcFM\n\nhttps://www.youtube.com/watch?v=au2n7VVGv_c\n\nhttps://www.youtu
 be.com/watch?v=ZJM4AQSbZDk\n\nhttps://www.youtube.com/watch?v=PEGccV-NOm8\
 n\nhttps://www.youtube.com/watch?v=fGqdIPer-ms\n\nhttps://www.youtube.com/
 watch?v=l_lblj8Cq0o\n\nhttps://www.youtube.com/watch?v=b8m9zhNAgKs
ATTACH;FMTTYPE=image/jpeg:https://night4u.pl/wp-content/uploads/2019/03/27
 511_image_53413467_10157227118857940_6173565409787117568_o.jpg
CATEGORIES:wielkopolskie
LOCATION:SQ klub\, Poznan\, Poland
GEO:52.40174;16.926687
X-APPLE-STRUCTURED-LOCATION;VALUE=URI;X-ADDRESS=Poznan\, Poland;X-APPLE-RAD
 IUS=100;X-TITLE=SQ klub:geo:52.40174,16.926687
END:VEVENT
BEGIN:VTIMEZONE
TZID:Europe/Warsaw
X-LIC-LOCATION:Europe/Warsaw
BEGIN:DAYLIGHT
DTSTART:20190331T030000
TZOFFSETFROM:+0100
TZOFFSETTO:+0200
TZNAME:CEST
END:DAYLIGHT
END:VTIMEZONE
END:VCALENDAR