BEGIN:VCALENDAR
VERSION:2.0
PRODID:-//wp-events-plugin.com//7.2.3.1//EN
TZID:Europe/Warsaw
X-WR-TIMEZONE:Europe/Warsaw
BEGIN:VEVENT
UID:6650@night4u.pl
DTSTART;TZID=Europe/Warsaw:20190329T220000
DTEND;TZID=Europe/Warsaw:20190330T050000
DTSTAMP:20190207T103435Z
URL:https://night4u.pl/wydarzenia/high-contrast-w-poznaniu/
SUMMARY:High Contrast w Poznaniu
DESCRIPTION:High Contrast wystąpi po długiej przerwie w Poznaniu :) \n29.
 03.2019 @ TAMA \n\nBilety dostępne od 6.02 godz. 12:00!\nwww.biletomat.pl
 /imprezy/high-contrast-poznan-poznan-7766\nwww.ekobilet.pl/illegalbreaks\n
 \ninfo o suportach soon.\n***\n\nHIGH CONTRAST\, czyli Lincoln Barrett - t
 o postać\, której przedstawiać nie trzeba. Od kilkunastu lat obecny na 
 scenie d’n’b\, zachwyca fanów i krytyków kolejnymi produkcjami muzyc
 znymi.\nChoć początkowo interesował się zagadnieniami filmowymi\, czeg
 o nigdy do końca nie porzucił\, skupił się na muzyce elektronicznej i 
 dołączył do słynnej wytwórni Hospital Records. Tam też w 2002 roku w
 ydał swój debiutancki album "True Colours".\nW czasie wieloletniej karie
 ry współpracował z plejadą uznanych producentów\, między innymi Ties
 to czy Underworld\, wydając również niezliczoną ilość świetnych rem
 iksów utworów takich artystów jak Adele\, Kanye West\, Utah Saints czy 
 Eric Prydz. W 2012 roku wraz z Underworld odegrał kluczową rolę przy wy
 borze i produkcji muzyki na paradę sportowców podczas ceremonii otwarcia
  Igrzysk Olimpijskich.W tym samym roku ukazało się “The Road Goes On F
 orever”. W lipcu 2014 Lincoln wydał singiel „Who's Loving You” z Cl
 are Maguire\, rok później zremiksował utwór „Muhammad Ali” grupy F
 aithless. W kwietniu 2016 dołączył do 3Beat i wydał pierwszy singiel p
 od ich skrzydłami - „Remind Me”\, a jesienią 2017 roku album „Nigh
 t Galerry”. Wydając kolejne produkcje mawia\, że możliwość tworzeni
 a nowych utworów w krótkim czasie jest uzależniająca - to jego narkoty
 k.\n\nWięcej:\nwww.facebook.com/highcontrastuk\nwww.highlycontrasting.com
 \n\nOrganizator:\nwww.illegalbreaks.com\nwww.facebook.com/illegalbreaks
ATTACH;FMTTYPE=image/jpeg:https://night4u.pl/wp-content/uploads/2019/02/19
 517_image_51311829_10157037584303659_435614450951651328_o.jpg
CATEGORIES:wielkopolskie
LOCATION:Tama\, ul. Niezłomnych 2\, Poznan\, 61-714\, Poland
GEO:52.402524;16.922364
X-APPLE-STRUCTURED-LOCATION;VALUE=URI;X-ADDRESS=ul. Niezłomnych 2\, Poznan
 \, 61-714\, Poland;X-APPLE-RADIUS=100;X-TITLE=Tama:geo:52.402524,16.922364
END:VEVENT
BEGIN:VTIMEZONE
TZID:Europe/Warsaw
X-LIC-LOCATION:Europe/Warsaw
BEGIN:STANDARD
DTSTART:20181028T020000
TZOFFSETFROM:+0200
TZOFFSETTO:+0100
TZNAME:CET
END:STANDARD
END:VTIMEZONE
END:VCALENDAR