BEGIN:VCALENDAR
VERSION:2.0
PRODID:-//wp-events-plugin.com//7.2.3.1//EN
TZID:Europe/Warsaw
X-WR-TIMEZONE:Europe/Warsaw
BEGIN:VEVENT
UID:40140@night4u.pl
DTSTART;TZID=Europe/Warsaw:20191220T210000
DTEND;TZID=Europe/Warsaw:20191221T060000
DTSTAMP:20191220T090102Z
URL:https://night4u.pl/wydarzenia/high-on-love-20-12/
SUMMARY:High on love // 20.12
DESCRIPTION:Przed samymi Świętami dajcie się ponieść szaleństwu!\nHig
 h on love w Czekoladzie! Drinki\, najlepsza muzyka w Łodzi i najgorętsze
 ... wszystko! I miłość!\nZapraszamy!\n\nLINE UP:\ndolna sala\nDJ FIOŁA
 S\n\ngórna sala\nDJ BARTECH\n\nStart: 21:00\nKlub Czekolada\, Piotrkowska
  55\nWjazd: panowie 10 zł\, panie free\, lista FB free do 23.30\, karty k
 lubowe free\, selekcja\n---\nLet yourself be carried away before Christmas
 !\nHigh on love in Czekolada! Drinks\, the best music in Lodz and the hott
 est ... everything! And love!\nWelcome!\n\nStart: 21.00\,\nEntrance: Ladie
 s free\, Guys 10 pln/ list FB FREE till 11:30 pm.\, club card free\, stude
 nt card fee /door selection
ATTACH;FMTTYPE=image/jpeg:https://night4u.pl/wp-content/uploads/2019/12/12
 1011_image_79576757_2839085146136619_2089931923752222720_o.jpg
CATEGORIES:łódzkie
LOCATION:Klub Czekolada Łódź\, Łódź\, Poland
GEO:51.769644;19.455797
X-APPLE-STRUCTURED-LOCATION;VALUE=URI;X-ADDRESS=Łódź\, Poland;X-APPLE-RA
 DIUS=100;X-TITLE=Klub Czekolada Łódź:geo:51.769644,19.455797
END:VEVENT
BEGIN:VTIMEZONE
TZID:Europe/Warsaw
X-LIC-LOCATION:Europe/Warsaw
BEGIN:STANDARD
DTSTART:20191027T020000
TZOFFSETFROM:+0200
TZOFFSETTO:+0100
TZNAME:CET
END:STANDARD
END:VTIMEZONE
END:VCALENDAR