BEGIN:VCALENDAR
VERSION:2.0
PRODID:-//wp-events-plugin.com//7.2.3.1//EN
TZID:Europe/Warsaw
X-WR-TIMEZONE:Europe/Warsaw
BEGIN:VEVENT
UID:27842@night4u.pl
DTSTART;TZID=Europe/Warsaw:20190927T210000
DTEND;TZID=Europe/Warsaw:20190928T040000
DTSTAMP:20190916T211424Z
URL:https://night4u.pl/wydarzenia/high-school-party-kali-16/
SUMMARY:High School Party // KALI // 16+
DESCRIPTION:Kochani ??\nJuż 27 Września po raz pierwszy na żywo wystąpi
  dla Was:\n>>>>>>> Marcin "Kali" Gutkowski ??❗\nTwórca takich hitów ja
 k :\n➡KALI - 30 KMH (OFFICIAL V8T VIDEO)\nhttps://www.youtube.com/watch?
 v=-ccxOY9btlw\n➡KALI x PALUCH - OPARY (OFFICIAL V8T VIDEO)\nhttps://www.
 youtube.com/watch?v=HS-IGKUksog\n\nREZERWACJE: http://bit.ly/2w3r4FG
ATTACH;FMTTYPE=image/jpeg:https://night4u.pl/wp-content/uploads/2019/09/64
 720_image_70881246_2362965593751088_6752322118462996480_o.jpg
CATEGORIES:lubuskie
LOCATION:Heaven Zielona Góra\, ul. Generała Józefa Sowińskiego 38 C\, Z
 ielona Góra\, 65-067\, Poland
GEO:51.934371;15.509862
X-APPLE-STRUCTURED-LOCATION;VALUE=URI;X-ADDRESS=ul. Generała Józefa Sowi
 ńskiego 38 C\, Zielona Góra\, 65-067\, Poland;X-APPLE-RADIUS=100;X-TITLE
 =Heaven Zielona Góra:geo:51.934371,15.509862
END:VEVENT
BEGIN:VTIMEZONE
TZID:Europe/Warsaw
X-LIC-LOCATION:Europe/Warsaw
BEGIN:DAYLIGHT
DTSTART:20190331T030000
TZOFFSETFROM:+0100
TZOFFSETTO:+0200
TZNAME:CEST
END:DAYLIGHT
END:VTIMEZONE
END:VCALENDAR