BEGIN:VCALENDAR
VERSION:2.0
PRODID:-//wp-events-plugin.com//7.2.3.1//EN
TZID:Europe/Warsaw
X-WR-TIMEZONE:Europe/Warsaw
BEGIN:VEVENT
UID:36470@night4u.pl
DTSTART;TZID=Europe/Warsaw:20191220T210000
DTEND;TZID=Europe/Warsaw:20191221T040000
DTSTAMP:20191220T085632Z
URL:https://night4u.pl/wydarzenia/high-school-party-ronnie-ferrari-wstep-1
 6/
SUMMARY:High School Party // Ronnie Ferrari // Wstęp 16+
DESCRIPTION:Anioły/Anielice! ♥\nZapraszamy Was na kolejną edycję High 
 School Party\, która odbędzie się 20 grudnia! ♥ 😍❗\nGościem tej
  nocy będzie Ronnie Ferrari! ⚡🔥\n\n➡ Twórca mega hitu "ONA BY TAK
  CHCIAŁA"!\nhttps://www.youtube.com/watch?v=LCcIx6bCcr8\n\nREZERWACJE: ht
 tp://bit.ly/2w3r4FG
ATTACH;FMTTYPE=image/jpeg:https://night4u.pl/wp-content/uploads/2019/11/99
 987_image_72314762_2497754263605553_5101018196580761600_o.jpg
CATEGORIES:lubuskie
LOCATION:Heaven Zielona Góra\, ul. Generała Józefa Sowińskiego 38 C\, Z
 ielona Góra\, 65-067\, Poland
GEO:51.934371;15.509862
X-APPLE-STRUCTURED-LOCATION;VALUE=URI;X-ADDRESS=ul. Generała Józefa Sowi
 ńskiego 38 C\, Zielona Góra\, 65-067\, Poland;X-APPLE-RADIUS=100;X-TITLE
 =Heaven Zielona Góra:geo:51.934371,15.509862
END:VEVENT
BEGIN:VTIMEZONE
TZID:Europe/Warsaw
X-LIC-LOCATION:Europe/Warsaw
BEGIN:STANDARD
DTSTART:20191027T020000
TZOFFSETFROM:+0200
TZOFFSETTO:+0100
TZNAME:CET
END:STANDARD
END:VTIMEZONE
END:VCALENDAR