BEGIN:VCALENDAR
VERSION:2.0
PRODID:-//wp-events-plugin.com//7.2.3.1//EN
TZID:Europe/Warsaw
X-WR-TIMEZONE:Europe/Warsaw
BEGIN:VEVENT
UID:51160@night4u.pl
DTSTART;TZID=Europe/Warsaw:20211009T200000
DTEND;TZID=Europe/Warsaw:20211010T010000
DTSTAMP:20210908T144733Z
URL:https://night4u.pl/wydarzenia/hinol-polska-wersja-bialystok-herkulesy/
SUMMARY:HINOL / Polska Wersja / Białystok / Herkulesy
DESCRIPTION:Witajcie!\n\nHeeeej.\nZapraszamy Was na koncert zespołu Polska
  Wersja w Białymstoku\n\nChcemy\, aby koncerty wróciły już do normalno
 ści. \nKażdy koncert to energia\, hip-hop i kontakt z fanami. \n\nKto by
 ł ten wie :)\n\nOczywiście zespół jeździ w pełnym składzie Hinol\, 
 Jano\, dj Lem i BRZ. Artyści aktualnie promują album "Od końca do pocz
 ątku"\n\nKlika pewniaków koncertowych:\n Żądze - https://www.youtube.c
 om/watch?v=usjIz8W6PQs\nMamy Czas - https://www.youtube.com/watch?v=rDCnsf
 A7MHo\nW Drogę - https://www.youtube.com/watch?v=PMNolL1dhBs\nLepiej To Z
 ostaw - https://www.youtube.com/watch?v=zAfVYrOFIdE\n\nNie zabraknie oczyw
 iście czasu na zdjęcia czy podpisanie płyt\, bo bez tych momentów zesp
 ół nie wychodzi z klubu. \n________________________________\n\n\nKONCERT
  POLSKA WERSJA\n\nMiejsce:\nHerkulesy/Białystok!\n\nBilety w cenie 30/40/
 50/60/150VIP:\n- https://goingapp.pl/wydarzenie/09-10-21-hinol-polska-wers
 ja-bialystok/pazdziernik-2021\n\n\nProsimy o wypełnienie ankiety dot. zdr
 owia online: \nhttps://goingapp.pl/form/covid-formularz-zdrowotny.\n\nSupp
 orty:\n- info niebawem\n\n⚠️ ZASADY BEZPIECZEŃSTWA:\n😷 przestrzeń
  będzie specjalnie zabezpieczona oraz dezynfekowana zgodnie z zaleceniami
  rządu\n😷 każdy uczestnik proszony jest o utrzymanie odstępu minimum
  2 metry i/lub zakrycie nosa i ust\n😷 przy wejściu\, oraz w specjalnyc
 h miejscach w lokalu dostępny będzie dozownik z płynem do dezynfekcji r
 ąk\n😷 na wejściu uczestnicy będą musieli wypełnić krótką ankiet
 ę odnośnie stanu zdrowia\n😷 wejście na teren imprezy tylko z maseczk
 ami\, bądź nakryciami nosa i ust\n😷\n\nWsparcie:\n- RapNews.pl\n\n\nD
 o zobaczenia!
ATTACH;FMTTYPE=image/jpeg:https://night4u.pl/wp-content/uploads/2021/08/18
 6535_image_240775802_4517605018301514_8701030737148677562_n.jpg
CATEGORIES:podlaskie
LOCATION:Herkulesy klub\, Mickiewicza 2c\, Białystok\, 15-222\, Poland
GEO:53.129396;23.167055
X-APPLE-STRUCTURED-LOCATION;VALUE=URI;X-ADDRESS=Mickiewicza 2c\, Białystok
 \, 15-222\, Poland;X-APPLE-RADIUS=100;X-TITLE=Herkulesy klub:geo:53.129396
 ,23.167055
END:VEVENT
BEGIN:VTIMEZONE
TZID:Europe/Warsaw
X-LIC-LOCATION:Europe/Warsaw
BEGIN:DAYLIGHT
DTSTART:20210328T030000
TZOFFSETFROM:+0100
TZOFFSETTO:+0200
TZNAME:CEST
END:DAYLIGHT
END:VTIMEZONE
END:VCALENDAR