BEGIN:VCALENDAR
VERSION:2.0
PRODID:-//wp-events-plugin.com//7.2.3.1//EN
TZID:Europe/Warsaw
X-WR-TIMEZONE:Europe/Warsaw
BEGIN:VEVENT
UID:2074@night4u.pl
DTSTART;TZID=Europe/Warsaw:20190119T190000
DTEND;TZID=Europe/Warsaw:20190119T223000
DTSTAMP:20181231T133143Z
URL:https://night4u.pl/wydarzenia/hinol-pw-mej-duszy-dziecko-p23-katowice/
SUMMARY:Hinol + PW / Mej Duszy Dziecko / P23 Katowice
DESCRIPTION:Agencja Muzyczna CRAVE ma ogromną przyjemność zaprosić Was 
 na jedyny w Katowicach koncert HINOL PW promujący jego najnowszy album 
 „Mej Duszy Dziecko”\, który osiągnął status Złotej Płyty w nieca
 ły miesiąc po premierze. Hinolowi na scenie towarzyszyć będzie ekipa P
 olska Wersja - Jano Polska Wersja Oficjalnie oraz niezawodny DJ Lem. \n\n?
  INFO ?\n\ndata: 19 stycznia 2019 \nmiejsce: P23 Katowice\, ul. Porcelanow
 a 23\notwarcie drzwi: 20:00\n\n\n? BILETY ?\n\nI pula 30 PLN (50 szt.) \nI
 I pula 40 PLN\n50 PLN w dniu koncertu (o ile coś zostanie)\n\nDo nabycia:
 \n\n✔ online ➙ https://bit.ly/2OWPiJs \n✔ sprzedaż stacjonarna wkr
 ótce \n\n\n? KONKURS NA SUPPORT ?\n\nChcesz zagrać support? Wyślij swoj
 e zgłoszenie na adres supporty@crave.com.pl\, które zawiera:\n\n° Twoj
 ą ksywę\n° linki do min. 3 swoich utworów\n° nr kontaktowy i link do 
 fanpage jeśli masz \n\nw tytule maila KONIECZNIE wpisz "Support HINOL / K
 atowice"\n\nSupporty wybierane będą na zasadzie konkursu. Wybrane linki 
 będą umieszczane na stronie wydarzania a zwycięzcy wyłaniani poprzez g
 łosowanie na FB.\n\n_____________________________________________________
 ______________\n\nPatroni Medialni: info wkrótce
ATTACH;FMTTYPE=image/jpeg:https://night4u.pl/wp-content/uploads/2018/12/81
 73_image_38817967_2263297403686598_8067962092621135872_n.jpg
CATEGORIES:śląskie
LOCATION:P23 Katowice\, ul. Porcelanowa 23\, Katowice\, 40-246\, Poland
GEO:50.25484;19.061829
X-APPLE-STRUCTURED-LOCATION;VALUE=URI;X-ADDRESS=ul. Porcelanowa 23\, Katowi
 ce\, 40-246\, Poland;X-APPLE-RADIUS=100;X-TITLE=P23 Katowice:geo:50.25484,
 19.061829
END:VEVENT
BEGIN:VTIMEZONE
TZID:Europe/Warsaw
X-LIC-LOCATION:Europe/Warsaw
BEGIN:STANDARD
DTSTART:20181028T020000
TZOFFSETFROM:+0200
TZOFFSETTO:+0100
TZNAME:CET
END:STANDARD
END:VTIMEZONE
END:VCALENDAR